BEGIN:VCALENDAR
VERSION:2.0
PRODID:-//L&#039;ANCRE - ECPv6.15.11//NONSGML v1.0//EN
CALSCALE:GREGORIAN
METHOD:PUBLISH
X-WR-CALNAME:L&#039;ANCRE
X-ORIGINAL-URL:https://lancre.ca
X-WR-CALDESC:Évènements pour L&#039;ANCRE
REFRESH-INTERVAL;VALUE=DURATION:PT1H
X-Robots-Tag:noindex
X-PUBLISHED-TTL:PT1H
BEGIN:VTIMEZONE
TZID:America/Toronto
BEGIN:DAYLIGHT
TZOFFSETFROM:-0500
TZOFFSETTO:-0400
TZNAME:EDT
DTSTART:20240310T070000
END:DAYLIGHT
BEGIN:STANDARD
TZOFFSETFROM:-0400
TZOFFSETTO:-0500
TZNAME:EST
DTSTART:20241103T060000
END:STANDARD
BEGIN:DAYLIGHT
TZOFFSETFROM:-0500
TZOFFSETTO:-0400
TZNAME:EDT
DTSTART:20250309T070000
END:DAYLIGHT
BEGIN:STANDARD
TZOFFSETFROM:-0400
TZOFFSETTO:-0500
TZNAME:EST
DTSTART:20251102T060000
END:STANDARD
BEGIN:DAYLIGHT
TZOFFSETFROM:-0500
TZOFFSETTO:-0400
TZNAME:EDT
DTSTART:20260308T070000
END:DAYLIGHT
BEGIN:STANDARD
TZOFFSETFROM:-0400
TZOFFSETTO:-0500
TZNAME:EST
DTSTART:20261101T060000
END:STANDARD
END:VTIMEZONE
BEGIN:VEVENT
DTSTART;TZID=America/Toronto:20250502T170000
DTEND;TZID=America/Toronto:20250502T230000
DTSTAMP:20260419T075024
CREATED:20250501T174519Z
LAST-MODIFIED:20250501T180056Z
UID:10790-1746205200-1746226800@lancre.ca
SUMMARY:Festival SÈVE
DESCRIPTION:Le Festival Sève est un festival de musique accessible situé en bordure du Richelieu à Saint-Jean-sur-Richelieu. Sur la scène principale\, vous pourrez assister à des spectacles d’artistes de renoms. Dans les commerces de la ville\, découvrez des artistes émergents! \nPour voir la programmation complète : http://www.sevefestival.com/
URL:https://lancre.ca/evenement/festival-seve/
CATEGORIES:Événements spéciaux
ATTACH;FMTTYPE=image/png:https://lancre.ca/wp-content/uploads/2025/05/492751225_652167557788010_1518569440695052958_n.png
END:VEVENT
BEGIN:VEVENT
DTSTART;TZID=America/Toronto:20250503T110000
DTEND;TZID=America/Toronto:20250503T230000
DTSTAMP:20260419T075024
CREATED:20250501T180243Z
LAST-MODIFIED:20250501T183307Z
UID:10794-1746270000-1746313200@lancre.ca
SUMMARY:Festival SÈVE
DESCRIPTION:Le Festival Sève est un festival de musique accessible situé en bordure du Richelieu à Saint-Jean-sur-Richelieu. Sur la scène principale\, vous pourrez assister à des spectacles d’artistes de renoms. Dans les commerces de la ville\, découvrez des artistes émergents! \nPour voir la programmation complète : http://www.sevefestival.com/
URL:https://lancre.ca/evenement/festival-seve-2/
CATEGORIES:Événements spéciaux
ATTACH;FMTTYPE=image/png:https://lancre.ca/wp-content/uploads/2025/05/492751225_652167557788010_1518569440695052958_n.png
END:VEVENT
BEGIN:VEVENT
DTSTART;TZID=America/Toronto:20250504T110000
DTEND;TZID=America/Toronto:20250504T230000
DTSTAMP:20260419T075024
CREATED:20250501T180414Z
LAST-MODIFIED:20250501T180414Z
UID:10796-1746356400-1746399600@lancre.ca
SUMMARY:Festival SÈVE
DESCRIPTION:Le Festival Sève est un festival de musique accessible situé en bordure du Richelieu à Saint-Jean-sur-Richelieu. Sur la scène principale\, vous pourrez assister à des spectacles d’artistes de renoms. Dans les commerces de la ville\, découvrez des artistes émergents! \nPour voir la programmation complète : http://www.sevefestival.com/
URL:https://lancre.ca/evenement/festival-seve-3/
CATEGORIES:Événements spéciaux
ATTACH;FMTTYPE=image/png:https://lancre.ca/wp-content/uploads/2025/05/492751225_652167557788010_1518569440695052958_n.png
END:VEVENT
BEGIN:VEVENT
DTSTART;TZID=America/Toronto:20250507T090000
DTEND;TZID=America/Toronto:20250507T170000
DTSTAMP:20260419T075024
CREATED:20250507T153949Z
LAST-MODIFIED:20250507T161503Z
UID:10849-1746608400-1746637200@lancre.ca
SUMMARY:Vente annuelle de fleurs et de plantes (Cégep de Saint-Jean-sur-Richelieu)
DESCRIPTION:C’est bientôt le moment tant attendu! Le programme Gestion et technologies d’entreprise agricole vous invite à sa vente annuelle de plants! \n\n\n\n Dates de l’événement :\nJeudi 8 mai (OUVERTURE) | 9 h à 17 h\nVendredi 9 mai | 9 h à 17 h\nSamedi 10 mai | 9 h à 13 h (ou jusqu’à épuisement des stocks)\n\n\nLieu : PORTE 20\n\n\n\n Paiement en argent comptant\, par carte débit (Interac) et crédit accepté.\n\n\n Apportez vos boîtes!\n\n\n\nAu menu : un vaste choix de fleurs\, plants de légumes et fines herbes pour embellir votre jardin ou votre cour! Premiers arrivés\, premiers servis – jusqu’à épuisement de la production!\n\n\nVenez encourager nos étudiant·es!
URL:https://lancre.ca/evenement/vente-annuelle-de-fleurs-et-de-plantes-cegep-de-saint-jean-sur-richelieu/
LOCATION:Cégep de Saint-Jean-sur-Richelieu\, 30 boul. du Séminaire Sud\, Saint-Jean-sur-Richelieu
CATEGORIES:Événements spéciaux
ATTACH;FMTTYPE=image/png:https://lancre.ca/wp-content/uploads/2025/05/LANCRE_GABARIT_Evenement_Site-5.png
END:VEVENT
BEGIN:VEVENT
DTSTART;TZID=America/Toronto:20250510T100000
DTEND;TZID=America/Toronto:20250510T150000
DTSTAMP:20260419T075024
CREATED:20250507T141409Z
LAST-MODIFIED:20250507T142104Z
UID:10835-1746871200-1746889200@lancre.ca
SUMMARY:Fête familiale (Famille à coeur)
DESCRIPTION:Préparez-vous pour une journée haute en couleur ! \nLa grande Fête familiale de Famille à Cœur revient le 10 mai 2025 au parc Alphonse-Lorrain (juste en face de chez nous ) de 10h à 15h!\n\n\n\nAu programme\, tout est GRATUIT :\n Roue chanceuse\n Maquillage\n Hot dogs\n Pop corn\n Animation en musique\n Breuvages\n Mascotte et bien plus !\n\n\n Astuce de pro : Apportez votre bouteille d’eau à remplir sur place \n\n Infos : 450 346-1734\n Annulé en cas de pluie\n\n\n\nOn vous attend en grand nombre pour une journée pleine de sourires\, de jeux et de surprises
URL:https://lancre.ca/evenement/fete-familiale-famille-a-coeur/
LOCATION:Parc Alphonse Lorrain\, Saint-Jean-sur-Richelieu
CATEGORIES:Événements spéciaux
ATTACH;FMTTYPE=image/png:https://lancre.ca/wp-content/uploads/2025/05/Format-TV-1920-px-1080-px-9.png
ORGANIZER;CN="Famille %C3%A0 coeur":MAILTO:serviceclientele@familleacoeur.qc.ca
END:VEVENT
BEGIN:VEVENT
DTSTART;TZID=America/Toronto:20250514T093000
DTEND;TZID=America/Toronto:20250514T110000
DTSTAMP:20260419T075024
CREATED:20250327T133503Z
LAST-MODIFIED:20250327T133503Z
UID:10664-1747215000-1747220400@lancre.ca
SUMMARY:Conseils Santé +
DESCRIPTION:Conseils Santé + est un service dédié à informer\, référer et sensibiliser les nouveaux arrivants au Québec sur le fonctionnement du système de santé de la province. \nNotre objectif est d’accompagner les nouveaux résidents dans leur parcours de santé en leur fournissant des informations claires et accessibles sur les services de santé disponibles\, les démarches administratives à suivre et les droits des patients. \nNotre professionnelle qualifiée offre des conseils personnalisés\, des ressources pratiques et des orientations vers les professionnels de santé appropriés afin d’assurer une intégration harmonieuse dans le système de santé québécois. \nPour plus d’informations sur le service Conseil Santé + : carolinesauriol@lancre.ca \n* Nos services visent uniquement à conseiller et à sensibiliser nos participants.e.s vers des ressources et des professionnels de la santé qualifiés. En aucun cas\, les conseils ou les informations fournis ne doivent être interprétés comme des diagnostics médicaux\, des traitements ou des prescriptions. \nPour toute question ou préoccupation liée à votre santé\, nous vous recommandons fortement de consulter un médecin ou un professionnel de la santé. Seul un professionnel peut fournir un diagnostic précis et un traitement approprié. * \n 
URL:https://lancre.ca/evenement/conseils-sante-14-mai/
LOCATION:49\, rue Saint-Jacques. Saint-Jean-sur-Richelieu\, Québec\, 49 rue Saint-Jacques\, Saint-Jean-sur-Richelieu\, Quebec\, J3B 2J8\, Canada
CATEGORIES:Ateliers éducatifs
ATTACH;FMTTYPE=image/png:https://lancre.ca/wp-content/uploads/2024/06/Recto.png
END:VEVENT
BEGIN:VEVENT
DTSTART;TZID=America/Toronto:20250515T183000
DTEND;TZID=America/Toronto:20250515T210000
DTSTAMP:20260419T075024
CREATED:20250327T134312Z
LAST-MODIFIED:20250327T134312Z
UID:10672-1747333800-1747342800@lancre.ca
SUMMARY:Gala les Exception'Elles de COFFRE
DESCRIPTION:Le 15 mai 2025\, rejoignez-nous pour une soirée exceptionnelle dédiée à la célébration des femmes déterminées et ambitieuses qui ouvrent les possibilités dans les métiers à prévalence masculine.\nLe Gala les Exception’Elles\, organisé par le COFFRE\, mettra en lumière ces parcours inspirants\, où la persévérance mène à l’excellence. \nDate : 15 mai 2025 \nHeure : 18 h 30 \nLieu : Domaine Trinity\, 360 Rue McGinnis\, Saint-Jean-sur-Richelieu \n✨ Voir tous les détails sur la page officielle du Gala
URL:https://lancre.ca/evenement/gala-les-exceptionelles-de-coffre/
CATEGORIES:Événements spéciaux
ATTACH;FMTTYPE=image/png:https://lancre.ca/wp-content/uploads/2025/03/COFFRE-_-Bandeau-site-web-Gala-Les-EXCEPTIONELLES.png
END:VEVENT
BEGIN:VEVENT
DTSTART;TZID=America/Toronto:20250528T093000
DTEND;TZID=America/Toronto:20250528T110000
DTSTAMP:20260419T075024
CREATED:20250327T133604Z
LAST-MODIFIED:20250327T133604Z
UID:10666-1748424600-1748430000@lancre.ca
SUMMARY:Conseils Santé +
DESCRIPTION:Conseils Santé + est un service dédié à informer\, référer et sensibiliser les nouveaux arrivants au Québec sur le fonctionnement du système de santé de la province. \nNotre objectif est d’accompagner les nouveaux résidents dans leur parcours de santé en leur fournissant des informations claires et accessibles sur les services de santé disponibles\, les démarches administratives à suivre et les droits des patients. \nNotre professionnelle qualifiée offre des conseils personnalisés\, des ressources pratiques et des orientations vers les professionnels de santé appropriés afin d’assurer une intégration harmonieuse dans le système de santé québécois. \nPour plus d’informations sur le service Conseil Santé + : carolinesauriol@lancre.ca \n* Nos services visent uniquement à conseiller et à sensibiliser nos participants.e.s vers des ressources et des professionnels de la santé qualifiés. En aucun cas\, les conseils ou les informations fournis ne doivent être interprétés comme des diagnostics médicaux\, des traitements ou des prescriptions. \nPour toute question ou préoccupation liée à votre santé\, nous vous recommandons fortement de consulter un médecin ou un professionnel de la santé. Seul un professionnel peut fournir un diagnostic précis et un traitement approprié. * \n 
URL:https://lancre.ca/evenement/conseils-sante-28-mai/
LOCATION:49\, rue Saint-Jacques. Saint-Jean-sur-Richelieu\, Québec\, 49 rue Saint-Jacques\, Saint-Jean-sur-Richelieu\, Quebec\, J3B 2J8\, Canada
CATEGORIES:Ateliers éducatifs
ATTACH;FMTTYPE=image/png:https://lancre.ca/wp-content/uploads/2024/06/Recto.png
END:VEVENT
BEGIN:VEVENT
DTSTART;TZID=America/Toronto:20250528T093000
DTEND;TZID=America/Toronto:20250528T110000
DTSTAMP:20260419T075024
CREATED:20250514T121802Z
LAST-MODIFIED:20250514T121802Z
UID:10898-1748424600-1748430000@lancre.ca
SUMMARY:Conseils Scolaire +
DESCRIPTION:Mis en place par l’équipe de L’ANCRE\, « Conseils Scolaires + » est un service qui a pour mission d’informer\, d’accompagner et de favoriser l’autonomie des nouveaux arrivants au Québec concernant le fonctionnement du système scolaire de la province. \nJulie Boisclair\, Intervenante Communautaire Interculturelle Scolaire\, joue un rôle essentiel en orientant les familles immigrantes à travers les spécificités du système scolaire québécois et en clarifiant les attentes à l’égard des parents. Elle les accompagne tout au long de l’année scolaire et facilite l’intégration de leurs enfants\, tout en développant leur autonomie grâce à divers outils d’apprentissage adaptés. \nDe plus\, Julie soutient les démarches de francisation et veille à ce que les familles aient accès aux services d’interprétation dont elles pourraient avoir besoin\, assurant ainsi une transition harmonieuse vers leur nouvelle vie au Québec. \nJulie Boisclair | Ici Scolaire & Conseils Scolaires + | \n  \njulieboisclair@lancre.ca
URL:https://lancre.ca/evenement/conseils-scolaire-3/
CATEGORIES:Ateliers éducatifs
ATTACH;FMTTYPE=image/png:https://lancre.ca/wp-content/uploads/2024/11/RECTO-Conseils-Scolaires-.png
ORGANIZER;CN="Julie Boisclair":MAILTO:julieboisclair@lancre.ca
END:VEVENT
BEGIN:VEVENT
DTSTART;TZID=America/Toronto:20250528T130000
DTEND;TZID=America/Toronto:20250528T160000
DTSTAMP:20260419T075024
CREATED:20250507T142856Z
LAST-MODIFIED:20250507T152815Z
UID:10838-1748437200-1748448000@lancre.ca
SUMMARY:La fête horticole (Centre de femmes du Haut-Richelieu)
DESCRIPTION:Le Centre de Femmes est fier de vous inviter à sa toute première édition de la fête horticole ! Il y aura des jeux\, de la nourriture\, de la musique et des plantes à donner.\nLe but est de développer son pouce vert ET faciliter l’échange de plantes de toutes sortes. Il n’y a aucune limite\, tout ce qui pousse en terre est admis et tout sera gratuit.\n\nVous voulez participer ? Contactez Margot au 450-346-0662
URL:https://lancre.ca/evenement/la-fete-agricole-centre-de-femmes-du-haut-richelieu/
LOCATION:390\, rue Georges-Phaneuf\, Saint-Jean-Sur-Richelieu\, 390\, rue Georges-Phaneuf\, Saint-Jean-Sur-Richelieu
CATEGORIES:Activités de nos partenaires,Activités interculturelles,Ateliers éducatifs
ATTACH;FMTTYPE=image/png:https://lancre.ca/wp-content/uploads/2025/05/LANCRE_GABARIT_Evenement_Site-4.png
END:VEVENT
BEGIN:VEVENT
DTSTART;TZID=America/Toronto:20250529T180000
DTEND;TZID=America/Toronto:20250529T200000
DTSTAMP:20260419T075024
CREATED:20250505T180518Z
LAST-MODIFIED:20250528T200926Z
UID:10824-1748541600-1748548800@lancre.ca
SUMMARY:Atelier "Pour tout savoir sur l'assurance-emploi"
DESCRIPTION:📢 ANNULATION D’ATELIER 📢 \nNous vous informons que l’atelier « Tout savoir sur l’assurance-emploi »\, initialement prévu pour demain\, jeudi 29 mai 2025\, est malheureusement annulé. \nNous sommes désolés pour cet inconvénient et nous vous remercions pour votre compréhension. \n💡 Bonne nouvelle : un enregistrement vidéo de l’atelier sera disponible au courant du mois de juin. Il vous sera transmis par courriel. \n📬 N’oubliez pas de surveiller votre boîte de réception pour recevoir le lien ! \n— L’équipe de L’ANCRE
URL:https://lancre.ca/evenement/atelier-pour-tout-savoir-sur-lassurance-emploi/
CATEGORIES:Ateliers éducatifs
ATTACH;FMTTYPE=image/png:https://lancre.ca/wp-content/uploads/2025/05/Atelier-Assurance-emploi-3.png
END:VEVENT
BEGIN:VEVENT
DTSTART;TZID=America/Toronto:20250531T100000
DTEND;TZID=America/Toronto:20250531T160000
DTSTAMP:20260419T075024
CREATED:20250507T140350Z
LAST-MODIFIED:20250526T171337Z
UID:10830-1748685600-1748707200@lancre.ca
SUMMARY:Fête des rencontres interculturelles 2025
DESCRIPTION:La 𝗙𝗲̂𝘁𝗲 𝗱𝗲𝘀 𝗿𝗲𝗻𝗰𝗼𝗻𝘁𝗿𝗲𝘀 𝗶𝗻𝘁𝗲𝗿𝗰𝘂𝗹𝘁𝘂𝗿𝗲𝗹𝗹𝗲𝘀 revient cette année à Municipalité de Saint-Mathias-sur Richelieu pour une journée encore plus festive\, remplie de découvertes et de moments inoubliables!\n\n 𝗦𝗮𝗺𝗲𝗱𝗶 31 𝗺𝗮𝗶 𝟮𝟬𝟮𝟱 | 𝟭𝟬 𝗵 𝗮̀ 𝟭𝟲 𝗵\n 𝗣𝗮𝗿𝗰 𝗥𝗼𝗴𝗲𝗿-𝗕𝗲́𝗹𝗶𝘀𝗹𝗲 Municipalité de Saint-Mathias-sur Richelieu\n\nL’an dernier\, vous avez été nombreux à célébrer les rencontres interculturelles avec nous\, et cette année\, nous vous réservons 𝗲𝗻𝗰𝗼𝗿𝗲 𝗽𝗹𝘂𝘀 𝗱𝗲 𝘀𝘂𝗿𝗽𝗿𝗶𝘀𝗲𝘀! \n\n\n\n𝗔𝗨 𝗣𝗥𝗢𝗚𝗥𝗔𝗠𝗠𝗘 – 𝗔𝗰𝘁𝗶𝘃𝗶𝘁𝗲́𝘀 𝗚𝗥𝗔𝗧𝗨𝗜𝗧𝗘𝗦 𝗽𝗼𝘂𝗿 𝘁𝗼𝘂𝘁𝗲 𝗹𝗮 𝗳𝗮𝗺𝗶𝗹𝗹𝗲 :\n Spectacles et musiques du monde\n Dégustations culinaires aux saveurs internationales\n Jeux gonflables et maquillage pour les enfants\n Ateliers interactifs et animations culturelles\n Nouveautés et surprises à découvrir sur place!\nVenez partager un moment de 𝗰𝗼𝗻𝘃𝗶𝘃𝗶𝗮𝗹𝗶𝘁𝗲́\, 𝗱’𝗲́𝗰𝗵𝗮𝗻𝗴𝗲 𝗲𝘁 𝗱𝗲 𝗰𝗲́𝗹𝗲́𝗯𝗿𝗮𝘁𝗶𝗼𝗻 du vivre-ensemble!\n\n\n\nSite web : https://mrcrouville.qc.ca/…/2e-edition-de-la-fete-des…/
URL:https://lancre.ca/evenement/fete-des-rencontres-interculturelles-2025/
LOCATION:Parc Roger-Bélisle\, 37\, chemin des Épinettes\, Saint-Mathias-sur-Richelieu
CATEGORIES:Activités de nos partenaires,Activités interculturelles
ATTACH;FMTTYPE=image/jpeg:https://lancre.ca/wp-content/uploads/2025/05/report-fete-Rouville.jpg
END:VEVENT
END:VCALENDAR