BEGIN:VCALENDAR
VERSION:2.0
PRODID:-//L&#039;ANCRE - ECPv6.15.11//NONSGML v1.0//EN
CALSCALE:GREGORIAN
METHOD:PUBLISH
X-WR-CALNAME:L&#039;ANCRE
X-ORIGINAL-URL:https://lancre.ca
X-WR-CALDESC:Évènements pour L&#039;ANCRE
REFRESH-INTERVAL;VALUE=DURATION:PT1H
X-Robots-Tag:noindex
X-PUBLISHED-TTL:PT1H
BEGIN:VTIMEZONE
TZID:America/Toronto
BEGIN:DAYLIGHT
TZOFFSETFROM:-0500
TZOFFSETTO:-0400
TZNAME:EDT
DTSTART:20240310T070000
END:DAYLIGHT
BEGIN:STANDARD
TZOFFSETFROM:-0400
TZOFFSETTO:-0500
TZNAME:EST
DTSTART:20241103T060000
END:STANDARD
BEGIN:DAYLIGHT
TZOFFSETFROM:-0500
TZOFFSETTO:-0400
TZNAME:EDT
DTSTART:20250309T070000
END:DAYLIGHT
BEGIN:STANDARD
TZOFFSETFROM:-0400
TZOFFSETTO:-0500
TZNAME:EST
DTSTART:20251102T060000
END:STANDARD
BEGIN:DAYLIGHT
TZOFFSETFROM:-0500
TZOFFSETTO:-0400
TZNAME:EDT
DTSTART:20260308T070000
END:DAYLIGHT
BEGIN:STANDARD
TZOFFSETFROM:-0400
TZOFFSETTO:-0500
TZNAME:EST
DTSTART:20261101T060000
END:STANDARD
END:VTIMEZONE
BEGIN:VEVENT
DTSTART;TZID=America/Toronto:20250318T100000
DTEND;TZID=America/Toronto:20250318T110000
DTSTAMP:20260419T112816
CREATED:20250306T151531Z
LAST-MODIFIED:20250402T132433Z
UID:10528-1742292000-1742295600@lancre.ca
SUMMARY:Clic Emploi avec le CISSS Montérégie-Centre
DESCRIPTION:Clic Emploi est un événement virtuel qui vous permet d’accéder rapidement à un grand nombre d’offres d’emploi proposées par une seule entreprise ou organisation.\nNous recevrons le CISSS Montérégie-Centre. \nNotre objectif?\nVous mettre en relation avec des employeurs qui recrutent activement et vous offrir une opportunité unique de mieux comprendre les postes disponibles avant d’envoyer votre candidature. \nQuand : 18 mars\nHeure : 10 h\nLieu : TEAMS \nInscription : https://coffre.ca/clic-emploi-avec-le-cisss-monteregie-centre/
URL:https://lancre.ca/evenement/clic-emploi-avec-le-cisss-monteregie-centre/
CATEGORIES:Événements liés à l’emploi
ATTACH;FMTTYPE=image/png:https://lancre.ca/wp-content/uploads/2025/03/Bandeau-site-web-.png
END:VEVENT
BEGIN:VEVENT
DTSTART;TZID=America/Toronto:20250323T133000
DTEND;TZID=America/Toronto:20250323T153000
DTSTAMP:20260419T112816
CREATED:20250310T192818Z
LAST-MODIFIED:20250311T124639Z
UID:10538-1742736600-1742743800@lancre.ca
SUMMARY:Théâtre Loup-Garou - Sous un même toit
DESCRIPTION:🎭 Une expérience théâtrale unique à Mont-Saint-Grégoire signé Théâtre Loup-Garou ! 🎭 \n| ENTRÉE GRATUITE – BILLETS DISPONIBLES À L’ENTRÉE | \nMont-Saint-Grégoire est ravi(e) d’accueillir « Sous un même toit »\, une pièce de théâtre participative qui aborde avec humour et authenticité les défis des nouveaux arrivants dans leur communauté d’accueil. \n💡 Un théâtre qui fait réfléchir tout en divertissant !\nInspirée de témoignages réels\, cette pièce suit Mustafa\, un nouvel arrivant du Maroc\, et Naïm\, son ami déjà installé au Québec. Dans l’immeuble où ils vivent\, leurs parcours s’entrelacent avec ceux des autres résidents. \nÀ travers une année complète\, « Sous un même toit » met en lumière\, avec humour et émotion\, les petits et grands bouleversements du quotidien\, de même que les défis de l’adaptation culturelle\, sociale et linguistique. \n✨ Un concept unique : le public est invité à échanger !\nAvant le dernier acte\, les spectateurs auront l’occasion de discuter et de réfléchir aux enjeux soulevés par la pièce. Un moment interactif et humain pour enrichir l’expérience théâtrale ! \n🎭 Une distribution engagée et inclusive\nPortée par 9 comédiennes et comédiens non professionnels\, réunissant des membres de la communauté d’accueil et des personnes immigrantes\, cette pièce offre une diversité de points de vue\, favorisant un regard nuancé et bienveillant sur l’intégration. \n📅 23 mars 2025\n📍 45\, rang de la montagne\, Mont-Saint-Grégoire (Centre communautaire de Mont-Saint-Grégoire)\n🕒 Heure : 13 h 30 \n👉 Ne manquez pas cette occasion d’assister à un spectacle touchant\, drôle et engagé ! Une production signée Théâtre Loup-Garou en collaboration avec L’ANCRE.
URL:https://lancre.ca/evenement/theatre-loup-garou-sous-un-meme-toit/
CATEGORIES:Activités de nos partenaires
ATTACH;FMTTYPE=image/png:https://lancre.ca/wp-content/uploads/2025/03/Affiche-horizontal-Sous-un-meme-toit-Mont-Saint-Gregoire.png
END:VEVENT
BEGIN:VEVENT
DTSTART;TZID=America/Toronto:20250327T093000
DTEND;TZID=America/Toronto:20250327T110000
DTSTAMP:20260419T112816
CREATED:20250325T194022Z
LAST-MODIFIED:20250325T194022Z
UID:10648-1743067800-1743073200@lancre.ca
SUMMARY:Conseils express emploi
DESCRIPTION: Conseils Express Emploi\nTous les jeudis de 9 h 30 à 11 h\n\nLe service « Conseils Express Emploi »\, ça s’adresse à qui ?\n\n\n\n« Conseils Express Emploi » s’adresse à toute personne souhaitant améliorer ses perspectives d’emploi.\n\nQue vous soyez à la recherche d’un premier emploi\, d’une réorientation professionnelle\, ou que vous cherchiez simplement à mettre à jour vos compétences\, notre service est là pour vous accompagner.\n\n\nComment accéder à notre service ?\n\n\n\n\nPour bénéficier du service « Conseils Express Emploi »\, il vous suffit de vous présenter dans nos bureaux\, au 49\, rue Saint-Jacques\, tous les jeudis de 9 h 30 à 11 h.\n\nVous aurez droit à une rencontre d’une trentaine de minutes avec l’un de nos conseillers en emploi.\nVous pouvez nous contacter par téléphone\, par courriel ou directement via notre site Internet pour avoir de plus amples informations.\n\n\n« Conseils Express Emploi » est la porte d’entrée par excellence du Quartier de l’emploi. \nVenez-nous voir\, dès aujourd’hui\, et faites le premier pas vers une carrière prometteuse! \n\n\n\n\n\n𝗣𝗿𝗲𝗻𝗲𝘇 𝗰𝗼𝗻𝘁𝗮𝗰𝘁 𝗮𝘃𝗲𝗰 𝗻𝗼𝘁𝗿𝗲 𝗲́𝗾𝘂𝗶𝗽𝗲 𝗱𝘂 𝗤𝘂𝗮𝗿𝘁𝗶𝗲𝗿 𝗱𝗲 𝗹’𝗲𝗺𝗽𝗹𝗼𝗶 pour plus d’informations.\n 450 347-6101\n st-jean@quartierdelemploi.ca
URL:https://lancre.ca/evenement/conseils-express-emploi/
LOCATION:Quartier de L’Emploi\, 49\, rue Saint-Jacques\, Saint-Jean-sur-Richelieu\, Québec\, J3B 2J8\, Canada
CATEGORIES:Événements liés à l’emploi
ATTACH;FMTTYPE=image/png:https://lancre.ca/wp-content/uploads/2025/03/Eevenements-ConseilsExpressEmploi-CalendrierQE.png
END:VEVENT
BEGIN:VEVENT
DTSTART;TZID=America/Toronto:20250329T133000
DTEND;TZID=America/Toronto:20250329T153000
DTSTAMP:20260419T112816
CREATED:20250311T123650Z
LAST-MODIFIED:20250311T123651Z
UID:10548-1743255000-1743262200@lancre.ca
SUMMARY:Théâtre Loup-Garou présente "Sous un même toit"
DESCRIPTION:🎭 Une expérience théâtrale unique à Saint-Césaire signé Théâtre Loup-Garou ! 🎭 \n| ENTRÉE GRATUITE – BILLETS DISPONIBLES À L’ENTRÉE | \nSaint-Césaire est ravi(e) d’accueillir « Sous un même toit »\, une pièce de théâtre participative qui aborde avec humour et authenticité les défis des nouveaux arrivants dans leur communauté d’accueil. \n💡 Un théâtre qui fait réfléchir tout en divertissant !\nInspirée de témoignages réels\, cette pièce suit Mustafa\, un nouvel arrivant du Maroc\, et Naïm\, son ami déjà installé au Québec. Dans l’immeuble où ils vivent\, leurs parcours s’entrelacent avec ceux des autres résidents. \nÀ travers une année complète\, « Sous un même toit » met en lumière\, avec humour et émotion\, les petits et grands bouleversements du quotidien\, de même que les défis de l’adaptation culturelle\, sociale et linguistique. \n✨ Un concept unique : le public est invité à échanger !\nAvant le dernier acte\, les spectateurs auront l’occasion de discuter et de réfléchir aux enjeux soulevés par la pièce. Un moment interactif et humain pour enrichir l’expérience théâtrale ! \n🎭 Une distribution engagée et inclusive\nPortée par 9 comédiennes et comédiens non professionnels\, réunissant des membres de la communauté d’accueil et des personnes immigrantes\, cette pièce offre une diversité de points de vue\, favorisant un regard nuancé et bienveillant sur l’intégration. \n📅 29 mars 2025\n📍 1881\, avenue Saint-Paul\, Saint-Césaire (École Paul-Germain-Ostiguy)\n🕒 Heure : 13 h 30 \n👉 Ne manquez pas cette occasion d’assister à un spectacle touchant\, drôle et engagé ! Une production signée Théâtre Loup-Garou en collaboration avec L’ANCRE.
URL:https://lancre.ca/evenement/theatre-loup-garou-presente-sous-un-meme-toit/
LOCATION:1881\, avenue Saint-Paul\, Saint-Césaire
CATEGORIES:Activités de nos partenaires
ATTACH;FMTTYPE=image/png:https://lancre.ca/wp-content/uploads/2025/03/Affiche-horizontal-Sous-un-meme-toit-Saint-Cesaire.png
END:VEVENT
BEGIN:VEVENT
DTSTART;TZID=America/Toronto:20250330T133000
DTEND;TZID=America/Toronto:20250330T153000
DTSTAMP:20260419T112816
CREATED:20250311T124219Z
LAST-MODIFIED:20250311T124341Z
UID:10553-1743341400-1743348600@lancre.ca
SUMMARY:Théâtre Loup-Garou présente "Sous un même toit"
DESCRIPTION:🎭 Une expérience théâtrale unique au Cabaret Théâtre du Vieux Saint-Jean signé Théâtre Loup-Garou ! 🎭 \n| ENTRÉE GRATUITE – BILLETS DISPONIBLES SUR VOSBILLETS.CA | \nLe Cabaret Théâtre du Vieux Saint-Jean est ravi(e) d’accueillir « Sous un même toit »\, une pièce de théâtre participative qui aborde avec humour et authenticité les défis des nouveaux arrivants dans leur communauté d’accueil. \n💡 Un théâtre qui fait réfléchir tout en divertissant !\nInspirée de témoignages réels\, cette pièce suit Mustafa\, un nouvel arrivant du Maroc\, et Naïm\, son ami déjà installé au Québec. Dans l’immeuble où ils vivent\, leurs parcours s’entrelacent avec ceux des autres résidents. \nÀ travers une année complète\, « Sous un même toit » met en lumière\, avec humour et émotion\, les petits et grands bouleversements du quotidien\, de même que les défis de l’adaptation culturelle\, sociale et linguistique. \n✨ Un concept unique : le public est invité à échanger !\nAvant le dernier acte\, les spectateurs auront l’occasion de discuter et de réfléchir aux enjeux soulevés par la pièce. Un moment interactif et humain pour enrichir l’expérience théâtrale ! \n🎭 Une distribution engagée et inclusive\nPortée par 9 comédiennes et comédiens non professionnels\, réunissant des membres de la communauté d’accueil et des personnes immigrantes\, cette pièce offre une diversité de points de vue\, favorisant un regard nuancé et bienveillant sur l’intégration. \n📅 30 mars 2025\n📍 90\, rue Laurier\, Saint-Jean-sur-Richelieu\n🕒 Heure : 13 h 30 \n🎟️ Billets disponibles sur vosbillets.ca \n👉 Ne manquez pas cette occasion d’assister à un spectacle touchant\, drôle et engagé ! Une production signée Théâtre Loup-Garou en collaboration avec L’ANCRE.
URL:https://lancre.ca/evenement/theatre-loup-garou-presente-sous-un-meme-toit-2/
LOCATION:Cabaret-théâtre du Vieux-Saint-Jean\, 190 rue Laurier\, Saint-Jean-sur-Richelieu\, PQ\, Canada
CATEGORIES:Activités de nos partenaires
ATTACH;FMTTYPE=image/png:https://lancre.ca/wp-content/uploads/2025/03/Affiche-horizontal-Sous-un-meme-toit-Cabaret-Theatre.png
END:VEVENT
END:VCALENDAR