BEGIN:VCALENDAR
VERSION:2.0
PRODID:-//L&#039;ANCRE - ECPv6.15.11//NONSGML v1.0//EN
CALSCALE:GREGORIAN
METHOD:PUBLISH
X-ORIGINAL-URL:https://lancre.ca
X-WR-CALDESC:Évènements pour L&#039;ANCRE
REFRESH-INTERVAL;VALUE=DURATION:PT1H
X-Robots-Tag:noindex
X-PUBLISHED-TTL:PT1H
BEGIN:VTIMEZONE
TZID:America/Toronto
BEGIN:DAYLIGHT
TZOFFSETFROM:-0500
TZOFFSETTO:-0400
TZNAME:EDT
DTSTART:20240310T070000
END:DAYLIGHT
BEGIN:STANDARD
TZOFFSETFROM:-0400
TZOFFSETTO:-0500
TZNAME:EST
DTSTART:20241103T060000
END:STANDARD
BEGIN:DAYLIGHT
TZOFFSETFROM:-0500
TZOFFSETTO:-0400
TZNAME:EDT
DTSTART:20250309T070000
END:DAYLIGHT
BEGIN:STANDARD
TZOFFSETFROM:-0400
TZOFFSETTO:-0500
TZNAME:EST
DTSTART:20251102T060000
END:STANDARD
BEGIN:DAYLIGHT
TZOFFSETFROM:-0500
TZOFFSETTO:-0400
TZNAME:EDT
DTSTART:20260308T070000
END:DAYLIGHT
BEGIN:STANDARD
TZOFFSETFROM:-0400
TZOFFSETTO:-0500
TZNAME:EST
DTSTART:20261101T060000
END:STANDARD
END:VTIMEZONE
BEGIN:VEVENT
DTSTART;TZID=America/Toronto:20250115T090000
DTEND;TZID=America/Toronto:20250115T103000
DTSTAMP:20260419T143735
CREATED:20241105T181737Z
LAST-MODIFIED:20250108T194516Z
UID:9536-1736931600-1736937000@lancre.ca
SUMMARY:Atelier : Mieux comprendre le Portail Mozaïk Parents
DESCRIPTION:🎓 Découvrez le Portail Mozaïk Parents et facilitez votre communication avec l’école! \nNous vous invitons à participer à l’un de nos deux ateliers « Mieux comprendre le portail Mozaïk Parents »\, spécialement conçus pour vous aider à maîtriser cet outil indispensable pour suivre la scolarité de vos enfants. \n🗓️ Dates disponibles : \n👉 15 janvier\, de 9 h à 10 h 30\n👉 29 janvier\, de 9 h à 10 h 30 \n  \n📍 En présentiel au Quartier de l’emploi à Saint-Jean-sur-Richelieu \n  \nCet atelier vous permettra de :\n✔️ Communiquer efficacement avec l’école\, même si le français n’est pas votre langue maternelle.\n✔️ Rester informé.e des activités\, bulletins et absences de vos enfants.\n✔️ Recevoir des alertes importantes\, comme ce qui se passe en classe ou à l’école de votre enfant. \n  \n👥 Places limitées à 12 participants par atelier. \nUne belle collaboration entre Mei Jean Varin\, agente de développement ILSS du Centre de services scolaire des Hautes-Rivières et Alexi Utrera\, Intervenante Communautaire Interculturelle Scolaire. pour L’ANCRE. \nNe manquez pas cette opportunité d’en apprendre davantage et de rester connecté.e avec l’école de vos enfants! \nInscription obligatoire \n  \n  \n  \n 
URL:https://lancre.ca/evenement/atelier-mosaik-parents-15-janvier/
LOCATION:49\, rue Saint-Jacques. Saint-Jean-sur-Richelieu\, Québec\, 49 rue Saint-Jacques\, Saint-Jean-sur-Richelieu\, Quebec\, J3B 2J8\, Canada
CATEGORIES:Ateliers éducatifs
ATTACH;FMTTYPE=image/png:https://lancre.ca/wp-content/uploads/2024/11/Atelier-Mosaik-15janv_siteweb-z.png
END:VEVENT
BEGIN:VEVENT
DTSTART;TZID=America/Toronto:20250115T093000
DTEND;TZID=America/Toronto:20250115T110000
DTSTAMP:20260419T143735
CREATED:20240905T174330Z
LAST-MODIFIED:20240905T174331Z
UID:8771-1736933400-1736938800@lancre.ca
SUMMARY:Conseils Santé +
DESCRIPTION:Mis en place par l’équipe de L’ANCRE\, « Conseils Santé + » est un service dédié à informer\, référer et sensibiliser les nouveaux arrivants au Québec sur le fonctionnement du système de santé de la province. \nNotre objectif est d’accompagner les nouveaux résidents dans leur parcours de santé en leur fournissant des informations claires et accessibles sur les services de santé disponibles\, les démarches administratives à suivre et les droits des patients. \nNotre professionnelle qualifiée offre des conseils personnalisés\, des ressources pratiques et des orientations vers les professionnels de santé appropriés afin d’assurer une intégration harmonieuse dans le système de santé québécois. \nPour plus d’informations sur le service Conseil Santé + : carolinesauriol@lancre.ca \n* Nos services visent uniquement à conseiller et à sensibiliser nos participants.e.s vers des ressources et des professionnels de la santé qualifiés. En aucun cas\, les conseils ou les informations fournis ne doivent être interprétés comme des diagnostics médicaux\, des traitements ou des prescriptions. \nPour toute question ou préoccupation liée à votre santé\, nous vous recommandons fortement de consulter un médecin ou un professionnel de la santé. Seul un professionnel peut fournir un diagnostic précis et un traitement approprié. * \nMerci pour votre compréhension
URL:https://lancre.ca/evenement/conseils-sante-13/
LOCATION:49\, rue Saint-Jacques. Saint-Jean-sur-Richelieu\, Québec\, 49 rue Saint-Jacques\, Saint-Jean-sur-Richelieu\, Quebec\, J3B 2J8\, Canada
CATEGORIES:Ateliers éducatifs
ATTACH;FMTTYPE=image/png:https://lancre.ca/wp-content/uploads/2024/06/Recto.png
END:VEVENT
BEGIN:VEVENT
DTSTART;TZID=America/Toronto:20250125T100000
DTEND;TZID=America/Toronto:20250125T170000
DTSTAMP:20260419T143735
CREATED:20250113T141112Z
LAST-MODIFIED:20250113T141236Z
UID:10239-1737799200-1737824400@lancre.ca
SUMMARY:Carnaval Iber-Neige Édition 2025
DESCRIPTION:Le Carnaval approche… Réserver les dates à votre agenda!\n: 25-26 Janvier et 1-2 Février 2025 \n\n\n\nActivités extérieures pour toute la famille. Oui oui\, toute la famille et tous les goûts!!! \nCurling\, volleyball\, jeux gonflables\, calèche\, arcade\, zone chill\, maquillage\, jeux d’adresse extérieur\, glissade sur tube et encore plus! Sans oublier nos soirées thématiques tel que le DJ EXTÉRIEUR\, notre soirée danse COUNTRY et aussi nos fameux brunch du Dimanche! Tout ça au même endroit et c’est au Carnaval IBER-NEIGE que sa se passe. \n\n\nPour voir la programmation complète : http://www.iberneige.com/
URL:https://lancre.ca/evenement/carnaval-iber-neige-edition-2025/
LOCATION:Pavillon des Mille-Roches\, 190\, Avenue Lareau\, Saint-Jean-sur-Richelieu\, Québec\, J2X 2R6\, Canada
CATEGORIES:Événements spéciaux
ATTACH;FMTTYPE=image/png:https://lancre.ca/wp-content/uploads/2025/01/Format-TV-1920-px-1080-px-5.png
END:VEVENT
BEGIN:VEVENT
DTSTART;TZID=America/Toronto:20250126T100000
DTEND;TZID=America/Toronto:20250126T170000
DTSTAMP:20260419T143735
CREATED:20250113T141405Z
LAST-MODIFIED:20250113T141405Z
UID:10243-1737885600-1737910800@lancre.ca
SUMMARY:Carnaval Iber-Neige Édition 2025
DESCRIPTION:Le Carnaval approche… Réserver les dates à votre agenda!\n: 25-26 Janvier et 1-2 Février 2025 \n\n\n\nActivités extérieures pour toute la famille. Oui oui\, toute la famille et tous les goûts!!! \nCurling\, volleyball\, jeux gonflables\, calèche\, arcade\, zone chill\, maquillage\, jeux d’adresse extérieur\, glissade sur tube et encore plus! Sans oublier nos soirées thématiques tel que le DJ EXTÉRIEUR\, notre soirée danse COUNTRY et aussi nos fameux brunch du Dimanche! Tout ça au même endroit et c’est au Carnaval IBER-NEIGE que sa se passe. \n\n\nPour voir la programmation complète : http://www.iberneige.com/
URL:https://lancre.ca/evenement/carnaval-iber-neige-edition-2025-2/
LOCATION:Pavillon des Mille-Roches\, 190\, Avenue Lareau\, Saint-Jean-sur-Richelieu\, Québec\, J2X 2R6\, Canada
CATEGORIES:Événements spéciaux
ATTACH;FMTTYPE=image/png:https://lancre.ca/wp-content/uploads/2025/01/Format-TV-1920-px-1080-px-5.png
END:VEVENT
BEGIN:VEVENT
DTSTART;TZID=America/Toronto:20250129T090000
DTEND;TZID=America/Toronto:20250129T103000
DTSTAMP:20260419T143735
CREATED:20250107T135128Z
LAST-MODIFIED:20250108T194623Z
UID:10215-1738141200-1738146600@lancre.ca
SUMMARY:Atelier : Mieux comprendre le Portail Mozaïk Parents
DESCRIPTION:🎓 Découvrez le Portail Mozaïk Parents et facilitez votre communication avec l’école! \nNous vous invitons à participer à l’un de nos deux ateliers « Mieux comprendre le portail Mozaïk Parents »\, spécialement conçus pour vous aider à maîtriser cet outil indispensable pour suivre la scolarité de vos enfants. \n🗓️ Dates disponibles : \n👉 15 janvier\, de 9 h à 10 h 30\n👉 29 janvier\, de 9 h à 10 h 30 \n  \n📍 En présentiel au Quartier de l’emploi à Saint-Jean-sur-Richelieu \n  \nCet atelier vous permettra de :\n✔️ Communiquer efficacement avec l’école\, même si le français n’est pas votre langue maternelle.\n✔️ Rester informé.e des activités\, bulletins et absences de vos enfants.\n✔️ Recevoir des alertes importantes\, comme ce qui se passe en classe ou à l’école de votre enfant. \n  \n👥 Places limitées à 12 participants par atelier. \nUne belle collaboration entre Mei Jean Varin\, agente de développement ILSS du Centre de services scolaire des Hautes-Rivières et Alexi Utrera\, Intervenante Communautaire Interculturelle Scolaire. pour L’ANCRE. \nNe manquez pas cette opportunité d’en apprendre davantage et de rester connecté.e avec l’école de vos enfants! \nInscription obligatoire \n  \n  \n  \n 
URL:https://lancre.ca/evenement/atelier-mieux-comprendre-le-portail-mosaik-parents-29janvier/
LOCATION:49\, rue Saint-Jacques. Saint-Jean-sur-Richelieu\, Québec\, 49 rue Saint-Jacques\, Saint-Jean-sur-Richelieu\, Quebec\, J3B 2J8\, Canada
CATEGORIES:Ateliers éducatifs
ATTACH;FMTTYPE=image/png:https://lancre.ca/wp-content/uploads/2024/11/Atelier-Mosaik-29janv_siteweb-z.png
END:VEVENT
BEGIN:VEVENT
DTSTART;TZID=America/Toronto:20250129T093000
DTEND;TZID=America/Toronto:20250129T110000
DTSTAMP:20260419T143735
CREATED:20240905T174441Z
LAST-MODIFIED:20240905T174545Z
UID:8773-1738143000-1738148400@lancre.ca
SUMMARY:Conseils Santé +
DESCRIPTION:Mis en place par l’équipe de L’ANCRE\, « Conseils Santé + » est un service dédié à informer\, référer et sensibiliser les nouveaux arrivants au Québec sur le fonctionnement du système de santé de la province. \nNotre objectif est d’accompagner les nouveaux résidents dans leur parcours de santé en leur fournissant des informations claires et accessibles sur les services de santé disponibles\, les démarches administratives à suivre et les droits des patients. \nNotre professionnelle qualifiée offre des conseils personnalisés\, des ressources pratiques et des orientations vers les professionnels de santé appropriés afin d’assurer une intégration harmonieuse dans le système de santé québécois. \nPour plus d’informations sur le service Conseil Santé + : carolinesauriol@lancre.ca \n* Nos services visent uniquement à conseiller et à sensibiliser nos participants.e.s vers des ressources et des professionnels de la santé qualifiés. En aucun cas\, les conseils ou les informations fournis ne doivent être interprétés comme des diagnostics médicaux\, des traitements ou des prescriptions. \nPour toute question ou préoccupation liée à votre santé\, nous vous recommandons fortement de consulter un médecin ou un professionnel de la santé. Seul un professionnel peut fournir un diagnostic précis et un traitement approprié. * \nMerci pour votre compréhension
URL:https://lancre.ca/evenement/conseils-sante-14/
LOCATION:49\, rue Saint-Jacques. Saint-Jean-sur-Richelieu\, Québec\, 49 rue Saint-Jacques\, Saint-Jean-sur-Richelieu\, Quebec\, J3B 2J8\, Canada
CATEGORIES:Ateliers éducatifs
ATTACH;FMTTYPE=image/png:https://lancre.ca/wp-content/uploads/2024/06/Recto.png
END:VEVENT
END:VCALENDAR