BEGIN:VCALENDAR
VERSION:2.0
PRODID:-//L&#039;ANCRE - ECPv6.15.11//NONSGML v1.0//EN
CALSCALE:GREGORIAN
METHOD:PUBLISH
X-ORIGINAL-URL:https://lancre.ca
X-WR-CALDESC:Évènements pour L&#039;ANCRE
REFRESH-INTERVAL;VALUE=DURATION:PT1H
X-Robots-Tag:noindex
X-PUBLISHED-TTL:PT1H
BEGIN:VTIMEZONE
TZID:America/Toronto
BEGIN:DAYLIGHT
TZOFFSETFROM:-0500
TZOFFSETTO:-0400
TZNAME:EDT
DTSTART:20230312T070000
END:DAYLIGHT
BEGIN:STANDARD
TZOFFSETFROM:-0400
TZOFFSETTO:-0500
TZNAME:EST
DTSTART:20231105T060000
END:STANDARD
BEGIN:DAYLIGHT
TZOFFSETFROM:-0500
TZOFFSETTO:-0400
TZNAME:EDT
DTSTART:20240310T070000
END:DAYLIGHT
BEGIN:STANDARD
TZOFFSETFROM:-0400
TZOFFSETTO:-0500
TZNAME:EST
DTSTART:20241103T060000
END:STANDARD
BEGIN:DAYLIGHT
TZOFFSETFROM:-0500
TZOFFSETTO:-0400
TZNAME:EDT
DTSTART:20250309T070000
END:DAYLIGHT
BEGIN:STANDARD
TZOFFSETFROM:-0400
TZOFFSETTO:-0500
TZNAME:EST
DTSTART:20251102T060000
END:STANDARD
END:VTIMEZONE
BEGIN:VEVENT
DTSTART;TZID=America/Toronto:20241101T163000
DTEND;TZID=America/Toronto:20241101T193000
DTSTAMP:20260419T180415
CREATED:20241009T154543Z
LAST-MODIFIED:20241010T193342Z
UID:9329-1730478600-1730489400@lancre.ca
SUMMARY:Célébration Jour des Morts
DESCRIPTION:DÍA DE MUERTOS\, une célébration culturelle\, spirituelle et colorée \nPlus qu’un événement religieux ou une fête\, le Jour des Morts « El Día de Muertos »\, est une belle occasion de découvrir une tradition qui mélange diverses coutumes. \nVenez admirer l’autel des morts! \nMusique folklorique en direct\, bricolage pour les enfants\, dégustation de pain traditionnel et de l’information à propos de leurs droits des travailleurs (TET) et leurs obligations sera transmise grâce au programme d’Immigrant Québec feront partie de l’horaire de la soirée. \nL’objectif principal de l’activité est de créer un pont interculturel et de rencontrer des travailleurs étrangers temporaires de toutes origines et croyances. \nDate : 1 novembre 2024 \nHeure : 16 h 30 à 19 h 30 \nLieu : 215\, rue Longueuil\, Saint-Jean-sur-Richelieu \nPour participer à cette activité\, vous devez remplir le formulaire d’inscription suivant : https://bit.ly/4h10C44 \n*Cette activité est GRATUITE pour ceux qui s’inscrivent avant le 31 octobre 2024. \n  \nHoraire de la soirée :  \n16 h 30 : Accueil de L’ANCRE avec des organismes du programme PSTM d’Immigrant Québec \n\nDégustation pour les gens inscrits de pain traditionnel et des boissons\nBricolage pour les enfants\n\n17 h : Visite de la cathédrale\, pour ceux qui souhaitent connaître cet immeuble d’intérêt patrimonial de la ville de Saint-Jean-sur-Richelieu \n18 h : Musique en direct par TABLAÒ\, ensemble folklorique latino-américain \n19 h : Mots de gratitude et tirage \n19 h 30 : Fin de l’événement \n  \nTous les détails seront communiqués par courriel après votre inscription. \nPour des informations supplémentaires\, contactez Karla Duenas : karladuenas@lancre.ca \n  \n\n  \nDÍA DE MUERTOS\, una celebración cultural\, espiritual y colorida! \nMás que un evento religioso o una fiesta\, “El Día de Muertos” es una gran oportunidad para descubrir una tradición que mezcla varias costumbres. \n¡Ven a admirar el altar de los muertos! \nMúsica folklórica en vivo\, manualidades para niños\, degustación de pan tradicional. \nAdemás\, organismos de información sobre los derechos y obligaciones de los trabajadores (TET). Gracias al programa PSTM de Immigrant Québec. \n  \nFecha: Viernes 1 de noviembre \nHora: 16:30 PM à 7:30 PM \nUbicación: Catedral de San Juan Evangelista. 215\, rue Longueuil\, Saint-Jean-sur-Richelieu. \n*Esta actividad es GRATUITA con inscripción obligatoria antes del 31 de octubre de 2024. \n  \nHorario: \n16:30 PM:  Bienvenida de L’ANCRE con los organismos del programa PSTM de Immigrant Québec. \n\nDegustación de pan tradicional para los inscritos.\nManualidades para niños\n\n5 PM: Visita a la Catedral\, para quienes deseen conocer este edificio de interés patrimonial de Saint-Jean-sur-Richelieu. \n6 PM: Música en vivo a cargo de TABLAÒ\, conjunto folklórico latinoamericano. \n7 PM: Palabras de agradecimiento y rifa de regalos. \n7:30 PM: Fin del evento \n  \nTodos los detalles se comunicarán por correo electrónico después de su registro. \nPara más información\, comuníquese con Karla Dueñas: karladuenas@lancre.ca
URL:https://lancre.ca/evenement/celebration-jour-des-morts/
LOCATION:215\, rue Longueuil\, Saint-Jean-sur-Richelieu\, 215\, rue Longueuil\, Saint-Jean-sur-Richelieu\, QC
CATEGORIES:Activité pour les Travailleurs Étrangers Temporaires,Activités interculturelles
ATTACH;FMTTYPE=image/png:https://lancre.ca/wp-content/uploads/2024/10/Celebration-de-la-fete-des-morts-2024.png
ORGANIZER;CN="Karla Duenas":MAILTO:karladuenas@lancre.ca
END:VEVENT
BEGIN:VEVENT
DTSTART;TZID=America/Toronto:20241106T090000
DTEND;TZID=America/Toronto:20241106T113000
DTSTAMP:20260419T180415
CREATED:20240903T180225Z
LAST-MODIFIED:20240903T180225Z
UID:8671-1730883600-1730892600@lancre.ca
SUMMARY:Les petits déjeuners causeries (CFHR)
DESCRIPTION:Vous souhaitez rencontrer d’autres femmes et discuter autour du petit déjeuner ? Vous aimeriez pratiquer votre français avec d’autres participantes ? C’est l’activité idéale ! Il est possible d’arriver à l’heure qui vous convient. \nSans inscription et gratuit \nDate : 6 novembre \nHeure : de 9 h à 11 h 30 \nLieu : 390\, rue Georges-Phaneuf\, Saint-Jean-Sur-Richelieu
URL:https://lancre.ca/evenement/les-petits-dejeuners-causeries-cfhr-8/
LOCATION:390 Rue Georges-Phaneuf\, Saint-Jean-sur-Richelieu\, QC J3B 1K2\, 390\, rue Georges-Phaneuf\, Saint-Jean-sur-Richelieu\, Québec\, J3B 1K2\, Canada
CATEGORIES:Activités interculturelles
ATTACH;FMTTYPE=image/png:https://lancre.ca/wp-content/uploads/2024/03/Gabarit-Calendrier-autres-partenaires.png
END:VEVENT
BEGIN:VEVENT
DTSTART;TZID=America/Toronto:20241106T180000
DTEND;TZID=America/Toronto:20241106T203000
DTSTAMP:20260419T180415
CREATED:20241023T142700Z
LAST-MODIFIED:20241030T173304Z
UID:9276-1730916000-1730925000@lancre.ca
SUMMARY:Soirée jeux de société
DESCRIPTION:Nous vous invitons à venir nous rejoindre pour une soirée de jeux de société animée par Margot du Centre de Femmes\, dans le cadre de la Semaine québécoise des rencontres interculturelles!\nCette soirée vise à offrir une opportunité d’échange interculturel à travers des activités ludiques. Nous encourageons la rencontre et l’inclusion de personnes d’horizons divers\, renforçant ainsi la solidarité et la compréhension mutuelle dans la communauté. \nQue vous soyez novice ou expert\, cette soirée est ouverte à tous!\nC’est une belle opportunité de découvrir de nouvelles cultures à travers le jeu. \n👉 Inscription recommandée\, en remplissant le formulaire : https://lancre.ca/sqri-2024-soiree-jeux-de-societe/ \nQuand : mercredi 6 novembre \nOù : Quartier de l’emploi au 49\, rue Saint-Jacques à Saint-Jean-sur-Richelieu. \nHeure : 18 h à 20 h 30 \nCoût : Gratuit \n🤝 Au plaisir d’échanger avec vous. \nPour plus d’informations\, contactez Diane Guillet à dianeguillet@lancre.ca ou au 450 347-6101 oste 212.
URL:https://lancre.ca/evenement/soiree-jeux-de-societe/
LOCATION:Quartier de L’Emploi\, 49\, rue Saint-Jacques\, Saint-Jean-sur-Richelieu\, Québec\, J3B 2J8\, Canada
CATEGORIES:Activités interculturelles
ATTACH;FMTTYPE=image/png:https://lancre.ca/wp-content/uploads/2024/10/Soiree-de-jeux-evenement.png
END:VEVENT
BEGIN:VEVENT
DTSTART;TZID=America/Toronto:20241108T173000
DTEND;TZID=America/Toronto:20241108T200000
DTSTAMP:20260419T180415
CREATED:20241009T145415Z
LAST-MODIFIED:20241023T142531Z
UID:9185-1731087000-1731096000@lancre.ca
SUMMARY:Rencontres et saveurs : un repas de partage interculturel
DESCRIPTION:Venez vivre une soirée unique sous le signe de la diversité culinaire et des rencontres interculturelles à l’occasion de la Semaine québécoise des rencontres interculturelles (SQRI) !\n🍽 Le Centre de femmes et L’ANCRE vous invitent à un repas de partage interculturel\, un moment convivial où chacun est encouragé à partager un plat traditionnel de sa culture. Que vous soyez passionné de cuisine ou simplement curieux de découvrir les saveurs du monde\, cet événement est l’occasion idéale pour échanger\, goûter et célébrer la richesse des cultures qui font vibrer notre communauté! \n👉 Inscription recommandée\, en remplissant le formulaire : https://lancre.ca/repas-de-partage-interculturel/ \nQuand : vendredi 8 novembre \nOù : Quartier de l’emploi au 49\, rue Saint-Jacques à Saint-Jean-sur-Richelieu. \nHeure : 17 h 30 \nCoût : Gratuit pour tous ceux qui apportent un plat à déguster et 5 $ pour la dégustation (paiement en argent comptant\, à l’arrivée). \nComment : apportez un plat de votre choix à partager ou venez librement déguster. \nVenez en famille ou entre amis et faites partie de cette célébration des cultures qui enrichissent notre communauté. \n🤝 Ensemble\, créons des ponts culturels et partageons un moment inoubliable. \nPour plus d’informations\, contactez Diane Guillet à dianeguillet@lancre.ca ou au 450 347-6101 au poste 212.
URL:https://lancre.ca/evenement/rencontres-et-saveurs-un-potluck-interculturel/
LOCATION:Quartier de L’Emploi\, 49\, rue Saint-Jacques\, Saint-Jean-sur-Richelieu\, Québec\, J3B 2J8\, Canada
CATEGORIES:Activités interculturelles
ATTACH;FMTTYPE=image/png:https://lancre.ca/wp-content/uploads/2024/10/potluck-interculturel-evenements-SQRI-8-NOV.png
END:VEVENT
BEGIN:VEVENT
DTSTART;TZID=America/Toronto:20241109T090000
DTEND;TZID=America/Toronto:20241109T170000
DTSTAMP:20260419T180415
CREATED:20241105T185215Z
LAST-MODIFIED:20241105T185314Z
UID:9541-1731142800-1731171600@lancre.ca
SUMMARY:Marché de Noël des artisans et produits locaux
DESCRIPTION:Nous vous invitons à commencer vos emplettes du temps des Fêtes lors de la 4e édition notre Marché de Noël des artisans et produits locaux qui se tiendra les 9 et 10 novembre 2024\, au Carrefour Richelieu pendant les heures d’ouverture habituelles des commerces. L’entrée est gratuite pour tous. \nNous remercions très chaleureusement l’ensemble de nos partenaires pour leur générosité : \nVille de Saint-Jean-sur-Richelieu \nJournal Le Canada Français \nCapteurs D’Images \nPâtisserie Simple et Sweet \nDooly’s Saint Jean sur Richelieu \nChocolats chauds SÜK \nAnimation Katoa \nHôtel St-Jean \nNutrifrance \nThe Home Depot \nPURE bio \nBoston Pizza \nJean Coutu \nFromagerie Victoria \nGranger Bernier & Associés Inc. \nRappelons que cet événement et entièrement organisé par la SAHR et contribue directement à financer l’ensemble des programmes et services de soutien pour les personnes touchées par la maladie d’Alzheimer et leurs proches. \nNous avons hâte de vous y retrouver!
URL:https://lancre.ca/evenement/marche-de-noel-des-artisans-et-produits-locaux/
LOCATION:600\, rue Pierre-Caisse\, Saint-Jean-sur-Richelieu
CATEGORIES:Événements spéciaux
ATTACH;FMTTYPE=image/png:https://lancre.ca/wp-content/uploads/2024/03/Gabarit-Calendrier-autres-partenaires.png
END:VEVENT
BEGIN:VEVENT
DTSTART;TZID=America/Toronto:20241110T100000
DTEND;TZID=America/Toronto:20241110T120000
DTSTAMP:20260419T180415
CREATED:20241106T183105Z
LAST-MODIFIED:20241106T183546Z
UID:9552-1731232800-1731240000@lancre.ca
SUMMARY:Conte pour les jeunes
DESCRIPTION:Voici une belle occasion pour vos petits! Conte aux enfants de 7 à 10 ans interprété par le Théâtre Loup-Garou. \nInscription souhaitable à info@cooparto.com ou denisroy100@yahoo.ca \nVous avez également la possibilité de vous inscrire le jour même! \nPour informations supplémentaires : 37\, rue Saint-Jacques\, Saint-Jean-sur-Richelieu | 450 346-9036 | cooparto.com
URL:https://lancre.ca/evenement/conte-pour-les-jeunes/
LOCATION:37\, rue Saint-Jacques\, Saint-Jean-sur-Richelieu
CATEGORIES:Activités de nos partenaires
ATTACH;FMTTYPE=image/png:https://lancre.ca/wp-content/uploads/2024/03/Gabarit-Calendrier-autres-partenaires.png
ORGANIZER;CN="Arto":MAILTO:info@cooparto.com
END:VEVENT
BEGIN:VEVENT
DTSTART;TZID=America/Toronto:20241110T100000
DTEND;TZID=America/Toronto:20241110T170000
DTSTAMP:20260419T180415
CREATED:20241105T185726Z
LAST-MODIFIED:20241105T191402Z
UID:9545-1731232800-1731258000@lancre.ca
SUMMARY:Marché de Noël des artisans et des produits locaux
DESCRIPTION:Nous vous invitons à commencer vos emplettes du temps des Fêtes lors de la 4e édition notre Marché de Noël des artisans et produits locaux qui se tiendra les 9 et 10 novembre 2024\, au Carrefour Richelieu pendant les heures d’ouverture habituelles des commerces. L’entrée est gratuite pour tous. \nNous remercions très chaleureusement l’ensemble de nos partenaires pour leur générosité : \nVille de Saint-Jean-sur-Richelieu \nJournal Le Canada Français \nCapteurs D’Images \nPâtisserie Simple et Sweet \nDooly’s Saint Jean sur Richelieu \nChocolats chauds SÜK \nAnimation Katoa \nHôtel St-Jean \nNutrifrance \nThe Home Depot \nPURE bio \nBoston Pizza \nJean Coutu \nFromagerie Victoria \nGranger Bernier & Associés Inc. \nRappelons que cet événement et entièrement organisé par la SAHR et contribue directement à financer l’ensemble des programmes et services de soutien pour les personnes touchées par la maladie d’Alzheimer et leurs proches. \nNous avons hâte de vous y retrouver!
URL:https://lancre.ca/evenement/marche-de-noel-des-artisans-et-des-produits-locaux/
LOCATION:600\, rue Pierre-Caisse\, Saint-Jean-sur-Richelieu
CATEGORIES:Événements spéciaux
ATTACH;FMTTYPE=image/png:https://lancre.ca/wp-content/uploads/2024/03/Gabarit-Calendrier-autres-partenaires.png
END:VEVENT
BEGIN:VEVENT
DTSTART;TZID=America/Toronto:20241113T090000
DTEND;TZID=America/Toronto:20241113T113000
DTSTAMP:20260419T180415
CREATED:20240903T180406Z
LAST-MODIFIED:20241105T201257Z
UID:8673-1731488400-1731497400@lancre.ca
SUMMARY:Les petits déjeuners causeries (CFHR)
DESCRIPTION:Vous souhaitez rencontrer d’autres femmes et discuter autour du petit déjeuner ? Vous aimeriez pratiquer votre français avec d’autres participantes ? C’est l’activité idéale ! Il est possible d’arriver à l’heure qui vous convient. \nSans inscription et gratuit \nDate : 13 novembre \nHeure : de 9 h à 11 h 30 \nLieu : 390\, rue Georges-Phaneuf\, Saint-Jean-Sur-Richelieu
URL:https://lancre.ca/evenement/les-petits-dejeuners-causeries-cfhr-9/
LOCATION:390 Rue Georges-Phaneuf\, Saint-Jean-sur-Richelieu\, QC J3B 1K2\, 390\, rue Georges-Phaneuf\, Saint-Jean-sur-Richelieu\, Québec\, J3B 1K2\, Canada
CATEGORIES:Activités interculturelles
ATTACH;FMTTYPE=image/png:https://lancre.ca/wp-content/uploads/2024/03/Gabarit-Calendrier-autres-partenaires.png
END:VEVENT
BEGIN:VEVENT
DTSTART;TZID=America/Toronto:20241113T093000
DTEND;TZID=America/Toronto:20241113T110000
DTSTAMP:20260419T180415
CREATED:20240822T171127Z
LAST-MODIFIED:20240822T171136Z
UID:8589-1731490200-1731495600@lancre.ca
SUMMARY:Conseils Santé +
DESCRIPTION:Mis en place par l’équipe de L’ANCRE\, « Conseils Santé + » est un service dédié à informer\, référer et sensibiliser les nouveaux arrivants au Québec sur le fonctionnement du système de santé de la province. \nNotre objectif est d’accompagner les nouveaux résidents dans leur parcours de santé en leur fournissant des informations claires et accessibles sur les services de santé disponibles\, les démarches administratives à suivre et les droits des patients. \nNotre professionnelle qualifiée offre des conseils personnalisés\, des ressources pratiques et des orientations vers les professionnels de santé appropriés afin d’assurer une intégration harmonieuse dans le système de santé québécois. \nPour plus d’informations sur le service Conseil Santé + : carolinesauriol@lancre.ca \n* Nos services visent uniquement à conseiller et à sensibiliser nos participants.e.s vers des ressources et des professionnels de la santé qualifiés. En aucun cas\, les conseils ou les informations fournis ne doivent être interprétés comme des diagnostics médicaux\, des traitements ou des prescriptions. \nPour toute question ou préoccupation liée à votre santé\, nous vous recommandons fortement de consulter un médecin ou un professionnel de la santé. Seul un professionnel peut fournir un diagnostic précis et un traitement approprié. * \nMerci pour votre compréhension
URL:https://lancre.ca/evenement/conseils-sante-10/
LOCATION:49\, rue Saint-Jacques. Saint-Jean-sur-Richelieu\, Québec\, 49 rue Saint-Jacques\, Saint-Jean-sur-Richelieu\, Quebec\, J3B 2J8\, Canada
CATEGORIES:Ateliers éducatifs
ATTACH;FMTTYPE=image/png:https://lancre.ca/wp-content/uploads/2024/06/Recto.png
END:VEVENT
BEGIN:VEVENT
DTSTART;TZID=America/Toronto:20241113T093000
DTEND;TZID=America/Toronto:20241113T110000
DTSTAMP:20260419T180415
CREATED:20241105T181224Z
LAST-MODIFIED:20241105T201144Z
UID:9526-1731490200-1731495600@lancre.ca
SUMMARY:Conseils Scolaires +
DESCRIPTION:Mis en place par l’équipe de L’ANCRE\, « Conseils Scolaires + » est un service qui a pour mission d’informer\, d’accompagner et de favoriser l’autonomie des nouveaux arrivants au Québec concernant le fonctionnement du système scolaire de la province. \nAlexi Utrera\, Intervenante Communautaire Interculturelle Scolaire\, joue un rôle essentiel en orientant les familles immigrantes à travers les spécificités du système scolaire québécois et en clarifiant les attentes à l’égard des parents. Elle les accompagne tout au long de l’année scolaire et facilite l’intégration de leurs enfants\, tout en développant leur autonomie grâce à divers outils d’apprentissage adaptés. \nDe plus\, Alexi soutient les démarches de francisation et veille à ce que les familles aient accès aux services d’interprétation dont elles pourraient avoir besoin\, assurant ainsi une transition harmonieuse vers leur nouvelle vie au Québec. \nAlexi Utrera | Ici Scolaire & Conseils Scolaires + | \nalexiutrera@lancre.ca
URL:https://lancre.ca/evenement/conseils-scolaires/
LOCATION:49\, rue Saint-Jacques. Saint-Jean-sur-Richelieu\, Québec\, 49 rue Saint-Jacques\, Saint-Jean-sur-Richelieu\, Quebec\, J3B 2J8\, Canada
CATEGORIES:Ateliers éducatifs
ATTACH;FMTTYPE=image/png:https://lancre.ca/wp-content/uploads/2024/11/RECTO-Conseils-Scolaires-.png
END:VEVENT
BEGIN:VEVENT
DTSTART;TZID=America/Toronto:20241120T090000
DTEND;TZID=America/Toronto:20241120T113000
DTSTAMP:20260419T180415
CREATED:20240903T180550Z
LAST-MODIFIED:20240903T180608Z
UID:8675-1732093200-1732102200@lancre.ca
SUMMARY:Les petits déjeuners causeries (CFHR)
DESCRIPTION:Vous souhaitez rencontrer d’autres femmes et discuter autour du petit déjeuner ? Vous aimeriez pratiquer votre français avec d’autres participantes ? C’est l’activité idéale ! Il est possible d’arriver à l’heure qui vous convient. \nSans inscription et gratuit \nDate : 20 novembre \nHeure : de 9 h à 11 h 30 \nLieu : 390\, rue Georges-Phaneuf\, Saint-Jean-Sur-Richelieu
URL:https://lancre.ca/evenement/les-petits-dejeuners-causeries-cfhr-10/
LOCATION:390 Rue Georges-Phaneuf\, Saint-Jean-sur-Richelieu\, QC J3B 1K2\, 390\, rue Georges-Phaneuf\, Saint-Jean-sur-Richelieu\, Québec\, J3B 1K2\, Canada
CATEGORIES:Activités interculturelles
ATTACH;FMTTYPE=image/png:https://lancre.ca/wp-content/uploads/2024/03/Gabarit-Calendrier-autres-partenaires.png
END:VEVENT
BEGIN:VEVENT
DTSTART;TZID=America/Toronto:20241121T180000
DTEND;TZID=America/Toronto:20241121T193000
DTSTAMP:20260419T180415
CREATED:20241114T184644Z
LAST-MODIFIED:20241114T184644Z
UID:9849-1732212000-1732217400@lancre.ca
SUMMARY:Atelier de cuisine - Cuisine vietnamienne
DESCRIPTION:Le centre des femmes du Haut-Richelieu vous offre la chance de participer à un atelier de cuisine mettant en vedette la cuisine vietnamienne. \nPrix : 5$ \nPour vous inscrire : 450 346-0662 \n 
URL:https://lancre.ca/evenement/atelier-de-cuisine-cuisine-vietnamienne/
CATEGORIES:Activités interculturelles,Ateliers éducatifs
ATTACH;FMTTYPE=image/png:https://lancre.ca/wp-content/uploads/2024/11/Gabarit-Calendrier-Centre-des-femmes-du-Haut-Richelieu.png
END:VEVENT
BEGIN:VEVENT
DTSTART;TZID=America/Toronto:20241123T100000
DTEND;TZID=America/Toronto:20241123T163000
DTSTAMP:20260419T180415
CREATED:20241121T161112Z
LAST-MODIFIED:20241121T163029Z
UID:9896-1732356000-1732379400@lancre.ca
SUMMARY:Marché de Noël au parc des Éclusiers
DESCRIPTION:Le père Noël vous invite à venir découvrir son Marché de Noël d’antan réunissant une trentaine d’exposants et proposant de l’animation pour toute la famille\, incluant des performances musicales\, des ateliers de danse en ligne et du maquillage pour enfants.\n \nC’est un rendez-vous au parc des Éclusiers\, les 23 et 24 novembre\, ainsi que les 30 novembre et 1er décembre\, de 10h à 16h30.  \nPour découvrir la programmation complète : Marché de Noël d’antan – Ville de Saint-Jean-sur-Richelieu
URL:https://lancre.ca/evenement/marche-de-noel-au-parc-des-eclusiers/
LOCATION:Parc des Éclusiers
CATEGORIES:Événements spéciaux
ATTACH;FMTTYPE=image/png:https://lancre.ca/wp-content/uploads/2024/11/Gabarit-Calendrier-Activites-de-Noel.png
END:VEVENT
BEGIN:VEVENT
DTSTART;TZID=America/Toronto:20241124T100000
DTEND;TZID=America/Toronto:20241124T163000
DTSTAMP:20260419T180415
CREATED:20241121T161400Z
LAST-MODIFIED:20241121T163159Z
UID:9899-1732442400-1732465800@lancre.ca
SUMMARY:Marché de Noël au parc des Éclusiers
DESCRIPTION:Le père Noël vous invite à venir découvrir son Marché de Noël d’antan réunissant une trentaine d’exposants et proposant de l’animation pour toute la famille\, incluant des performances musicales\, des ateliers de danse en ligne et du maquillage pour enfants.\n \nC’est un rendez-vous au parc des Éclusiers\, les 23 et 24 novembre\, ainsi que les 30 novembre et 1er décembre\, de 10h à 16h30.  \nPour découvrir la programmation complète : Marché de Noël d’antan – Ville de Saint-Jean-sur-Richelieu
URL:https://lancre.ca/evenement/marche-de-noel-au-parc-des-eclusiers-2/
LOCATION:Parc des Éclusiers\, rue Champlain\, Saint-Jean-sur-Richelieu
CATEGORIES:Événements spéciaux
ATTACH;FMTTYPE=image/png:https://lancre.ca/wp-content/uploads/2024/11/Gabarit-Calendrier-Activites-de-Noel.png
END:VEVENT
BEGIN:VEVENT
DTSTART;TZID=America/Toronto:20241127T090000
DTEND;TZID=America/Toronto:20241127T103000
DTSTAMP:20260419T180415
CREATED:20241114T185204Z
LAST-MODIFIED:20241114T203532Z
UID:9856-1732698000-1732703400@lancre.ca
SUMMARY:Petit déjeuner diversité : Mexique
DESCRIPTION:Pour en apprendre plus sur les parcours d’une femme immigrante et sur son pays atour d’un bon petit déjeuner. Le thème sera « Mexique ». \nDate : 27 novembre \nHeure : 9 h \nRéservation : appelez au 450-346-0662 dès le 20 novembre
URL:https://lancre.ca/evenement/petit-dejeuner-diversite-mexique/
LOCATION:390\, rue Georges-Phaneuf\, Saint-Jean-Sur-Richelieu\, 390\, rue Georges-Phaneuf\, Saint-Jean-Sur-Richelieu
CATEGORIES:Activités interculturelles,Ateliers éducatifs
ATTACH;FMTTYPE=image/png:https://lancre.ca/wp-content/uploads/2024/11/Gabarit-Calendrier-Centre-des-femmes-du-Haut-Richelieu.png
END:VEVENT
BEGIN:VEVENT
DTSTART;TZID=America/Toronto:20241127T093000
DTEND;TZID=America/Toronto:20241127T110000
DTSTAMP:20260419T180415
CREATED:20240822T171229Z
LAST-MODIFIED:20241105T193807Z
UID:8591-1732699800-1732705200@lancre.ca
SUMMARY:Conseils Santé +
DESCRIPTION:Mis en place par l’équipe de L’ANCRE\, « Conseils Santé + » est un service dédié à informer\, référer et sensibiliser les nouveaux arrivants au Québec sur le fonctionnement du système de santé de la province. \nNotre objectif est d’accompagner les nouveaux résidents dans leur parcours de santé en leur fournissant des informations claires et accessibles sur les services de santé disponibles\, les démarches administratives à suivre et les droits des patients. \nNotre professionnelle qualifiée offre des conseils personnalisés\, des ressources pratiques et des orientations vers les professionnels de santé appropriés afin d’assurer une intégration harmonieuse dans le système de santé québécois. \nPour plus d’informations sur le service Conseil Santé + : carolinesauriol@lancre.ca \n* Nos services visent uniquement à conseiller et à sensibiliser nos participants.e.s vers des ressources et des professionnels de la santé qualifiés. En aucun cas\, les conseils ou les informations fournis ne doivent être interprétés comme des diagnostics médicaux\, des traitements ou des prescriptions. \nPour toute question ou préoccupation liée à votre santé\, nous vous recommandons fortement de consulter un médecin ou un professionnel de la santé. Seul un professionnel peut fournir un diagnostic précis et un traitement approprié. * \nMerci pour votre compréhension
URL:https://lancre.ca/evenement/conseils-sante-11/
LOCATION:49\, rue Saint-Jacques. Saint-Jean-sur-Richelieu\, Québec\, 49 rue Saint-Jacques\, Saint-Jean-sur-Richelieu\, Quebec\, J3B 2J8\, Canada
CATEGORIES:Ateliers éducatifs
ATTACH;FMTTYPE=image/png:https://lancre.ca/wp-content/uploads/2024/06/Recto.png
END:VEVENT
BEGIN:VEVENT
DTSTART;TZID=America/Toronto:20241127T093000
DTEND;TZID=America/Toronto:20241127T110000
DTSTAMP:20260419T180415
CREATED:20241105T181437Z
LAST-MODIFIED:20241105T201107Z
UID:9531-1732699800-1732705200@lancre.ca
SUMMARY:Conseils Scolaires +
DESCRIPTION:Mis en place par l’équipe de L’ANCRE\, « Conseils Scolaires + » est un service qui a pour mission d’informer\, d’accompagner et de favoriser l’autonomie des nouveaux arrivants au Québec concernant le fonctionnement du système scolaire de la province. \nAlexi Utrera\, Intervenante Communautaire Interculturelle Scolaire\, joue un rôle essentiel en orientant les familles immigrantes à travers les spécificités du système scolaire québécois et en clarifiant les attentes à l’égard des parents. Elle les accompagne tout au long de l’année scolaire et facilite l’intégration de leurs enfants\, tout en développant leur autonomie grâce à divers outils d’apprentissage adaptés. \nDe plus\, Alexi soutient les démarches de francisation et veille à ce que les familles aient accès aux services d’interprétation dont elles pourraient avoir besoin\, assurant ainsi une transition harmonieuse vers leur nouvelle vie au Québec. \nAlexi Utrera | Ici Scolaire & Conseils Scolaires + | \nalexiutrera@lancre.ca
URL:https://lancre.ca/evenement/conseils-scolaires-2/
LOCATION:49\, rue Saint-Jacques. Saint-Jean-sur-Richelieu\, Québec\, 49 rue Saint-Jacques\, Saint-Jean-sur-Richelieu\, Quebec\, J3B 2J8\, Canada
CATEGORIES:Ateliers éducatifs
ATTACH;FMTTYPE=image/png:https://lancre.ca/wp-content/uploads/2024/11/RECTO-Conseils-Scolaires-.png
END:VEVENT
BEGIN:VEVENT
DTSTART;TZID=America/Toronto:20241130T100000
DTEND;TZID=America/Toronto:20241130T163000
DTSTAMP:20260419T180415
CREATED:20241121T161538Z
LAST-MODIFIED:20241121T162948Z
UID:9901-1732960800-1732984200@lancre.ca
SUMMARY:Marché de Noël au parc des Éclusiers
DESCRIPTION:Le père Noël vous invite à venir découvrir son Marché de Noël d’antan réunissant une trentaine d’exposants et proposant de l’animation pour toute la famille\, incluant des performances musicales\, des ateliers de danse en ligne et du maquillage pour enfants.\n \nC’est un rendez-vous au parc des Éclusiers\, les 23 et 24 novembre\, ainsi que les 30 novembre et 1er décembre\, de 10h à 16h30.  \nPour découvrir la programmation complète : Marché de Noël d’antan – Ville de Saint-Jean-sur-Richelieu
URL:https://lancre.ca/evenement/marche-de-noel-au-parc-des-eclusiers-3/
LOCATION:Parc des Éclusiers\, rue Champlain\, Saint-Jean-sur-Richelieu
CATEGORIES:Événements spéciaux
ATTACH;FMTTYPE=image/png:https://lancre.ca/wp-content/uploads/2024/11/Gabarit-Calendrier-Activites-de-Noel.png
END:VEVENT
END:VCALENDAR