BEGIN:VCALENDAR
VERSION:2.0
PRODID:-//L&#039;ANCRE - ECPv6.15.11//NONSGML v1.0//EN
CALSCALE:GREGORIAN
METHOD:PUBLISH
X-WR-CALNAME:L&#039;ANCRE
X-ORIGINAL-URL:https://lancre.ca
X-WR-CALDESC:Évènements pour L&#039;ANCRE
REFRESH-INTERVAL;VALUE=DURATION:PT1H
X-Robots-Tag:noindex
X-PUBLISHED-TTL:PT1H
BEGIN:VTIMEZONE
TZID:America/Toronto
BEGIN:DAYLIGHT
TZOFFSETFROM:-0500
TZOFFSETTO:-0400
TZNAME:EDT
DTSTART:20220313T070000
END:DAYLIGHT
BEGIN:STANDARD
TZOFFSETFROM:-0400
TZOFFSETTO:-0500
TZNAME:EST
DTSTART:20221106T060000
END:STANDARD
BEGIN:DAYLIGHT
TZOFFSETFROM:-0500
TZOFFSETTO:-0400
TZNAME:EDT
DTSTART:20230312T070000
END:DAYLIGHT
BEGIN:STANDARD
TZOFFSETFROM:-0400
TZOFFSETTO:-0500
TZNAME:EST
DTSTART:20231105T060000
END:STANDARD
BEGIN:DAYLIGHT
TZOFFSETFROM:-0500
TZOFFSETTO:-0400
TZNAME:EDT
DTSTART:20240310T070000
END:DAYLIGHT
BEGIN:STANDARD
TZOFFSETFROM:-0400
TZOFFSETTO:-0500
TZNAME:EST
DTSTART:20241103T060000
END:STANDARD
END:VTIMEZONE
BEGIN:VEVENT
DTSTART;TZID=America/Toronto:20231002T180000
DTEND;TZID=America/Toronto:20231002T190000
DTSTAMP:20260421T064703
CREATED:20230918T171126Z
LAST-MODIFIED:20230920T125718Z
UID:5415-1696269600-1696273200@lancre.ca
SUMMARY:Atelier « La santé des dents »
DESCRIPTION:L’ANCRE vous invite à un atelier gratuit sur la santé des dents\, en collaboration avec le centre dentaire Votre Dentisterie de Saint-Jean-sur-Richelieu. \n\n : 2 octobre\n : Quartier de l’emploi au 49\, rue Saint-Jacques à Saint-Jean-sur-Richelieu\n : 18 h à 19 h\n\nInscription obligatoire : 
URL:https://lancre.ca/evenement/atelier-la-sante-des-dents/
LOCATION:49\, rue Saint-Jacques. Saint-Jean-sur-Richelieu\, Québec\, 49 rue Saint-Jacques\, Saint-Jean-sur-Richelieu\, Quebec\, J3B 2J8\, Canada
CATEGORIES:Ateliers éducatifs
ATTACH;FMTTYPE=image/png:https://lancre.ca/wp-content/uploads/2023/09/site-web-Seanec-info-Sante.png
END:VEVENT
END:VCALENDAR