BEGIN:VCALENDAR
VERSION:2.0
PRODID:-//L&#039;ANCRE - ECPv6.15.11//NONSGML v1.0//EN
CALSCALE:GREGORIAN
METHOD:PUBLISH
X-WR-CALNAME:L&#039;ANCRE
X-ORIGINAL-URL:https://lancre.ca
X-WR-CALDESC:Évènements pour L&#039;ANCRE
REFRESH-INTERVAL;VALUE=DURATION:PT1H
X-Robots-Tag:noindex
X-PUBLISHED-TTL:PT1H
BEGIN:VTIMEZONE
TZID:America/Toronto
BEGIN:DAYLIGHT
TZOFFSETFROM:-0500
TZOFFSETTO:-0400
TZNAME:EDT
DTSTART:20230312T070000
END:DAYLIGHT
BEGIN:STANDARD
TZOFFSETFROM:-0400
TZOFFSETTO:-0500
TZNAME:EST
DTSTART:20231105T060000
END:STANDARD
BEGIN:DAYLIGHT
TZOFFSETFROM:-0500
TZOFFSETTO:-0400
TZNAME:EDT
DTSTART:20240310T070000
END:DAYLIGHT
BEGIN:STANDARD
TZOFFSETFROM:-0400
TZOFFSETTO:-0500
TZNAME:EST
DTSTART:20241103T060000
END:STANDARD
BEGIN:DAYLIGHT
TZOFFSETFROM:-0500
TZOFFSETTO:-0400
TZNAME:EDT
DTSTART:20250309T070000
END:DAYLIGHT
BEGIN:STANDARD
TZOFFSETFROM:-0400
TZOFFSETTO:-0500
TZNAME:EST
DTSTART:20251102T060000
END:STANDARD
END:VTIMEZONE
BEGIN:VEVENT
DTSTART;TZID=America/Toronto:20241016T090000
DTEND;TZID=America/Toronto:20241016T110000
DTSTAMP:20260421T004800
CREATED:20240909T190917Z
LAST-MODIFIED:20240913T150108Z
UID:8794-1729069200-1729076400@lancre.ca
SUMMARY:Rendez-vous express de l'emploi
DESCRIPTION:𝐅𝐨𝐫𝐦𝐮𝐥𝐞 𝐡𝐲𝐛𝐫𝐢𝐝𝐞\, 𝐞𝐧 𝐩𝐫𝐞́𝐬𝐞𝐧𝐭𝐢𝐞𝐥 𝐚̀ 𝐥’𝐮𝐧 𝐝𝐞 𝐧𝐨𝐬 𝐝𝐞𝐮𝐱 𝐛𝐮𝐫𝐞𝐚𝐮𝐱 𝐨𝐮 𝐞𝐧 𝐥𝐢𝐠𝐧𝐞\, 𝐯𝐢𝐚 𝐓𝐞𝐚𝐦𝐬.\nRéservation obligatoire avant le 14 octobre\, en remplissant le formulaire : https://coffre.ca/rdv-express-de-lemploi/\n\nLe 16 octobre 𝐩𝐫𝐨𝐜𝐡𝐚𝐢𝐧\, nous recevrons trois employeurs dans nos deux bureaux\, une formule gagnante pour vous faire découvrir une belle panoplie de postes disponibles. C’est aussi une occasion en or pour rencontrer et échanger avec ces employeurs.\n\n À notre bureau de Saint-Hubert :\nLe CISSS Montérégie Centre sera dans les locaux pour vous rencontrer et vous proposer sa diversité de postes à pourvoir.\n Adresse :5664\, chemin de Chambly\, Saint-Hubert\, J3Y 7E5\n450 678-3838\n\n À notre bureau de Saint-Jean-sur-Richelieu :\nDans nos locaux\, nous aurons l’entreprise Pasquier ainsi que l’entreprise Tremcar seront présents.\n Adresse : 49\, Saint-Jacques\, Saint-Jean-sur-Richelieu\, J3B 2J8\n450 347-6101\n\n Ensemble\, ces employeurs vous parleront des opportunités d’emplois qu’ils ont à offrir. Que vous soyez à Saint-Hubert ou à Saint-Jean\, vous pourrez en apprendre davantage sur ces organisations de choix.\n\n Assurez-vous d’avoir un CV à jour avant l’événement!\n\n𝐃𝐄́𝐓𝐀𝐈𝐋𝐒 𝐓𝐄𝐂𝐇𝐍𝐈𝐐𝐔𝐄𝐒\nRéservation obligatoire avant le 14 octobre\, en remplissant le formulaire : https://coffre.ca/rdv-express-de-lemploi/\nVous recevrez un courriel de confirmation à la suite de votre inscription ainsi que des rappels peu de temps avant l’événement.\n\nAttention : surveillez vos indésirables\, les courriels peuvent s’y retrouver.
URL:https://lancre.ca/evenement/rendez-vous-express-de-lemploi/
LOCATION:Quartier de L’Emploi\, 49\, rue Saint-Jacques\, Saint-Jean-sur-Richelieu\, Québec\, J3B 2J8\, Canada
CATEGORIES:Événements liés à l’emploi
ATTACH;FMTTYPE=image/png:https://lancre.ca/wp-content/uploads/2024/09/QE_banniere-web-site_RDV-express-emploi-1-1.png
END:VEVENT
END:VCALENDAR