BEGIN:VCALENDAR
VERSION:2.0
PRODID:-//L&#039;ANCRE - ECPv6.15.11//NONSGML v1.0//EN
CALSCALE:GREGORIAN
METHOD:PUBLISH
X-WR-CALNAME:L&#039;ANCRE
X-ORIGINAL-URL:https://lancre.ca
X-WR-CALDESC:Évènements pour L&#039;ANCRE
REFRESH-INTERVAL;VALUE=DURATION:PT1H
X-Robots-Tag:noindex
X-PUBLISHED-TTL:PT1H
BEGIN:VTIMEZONE
TZID:America/Toronto
BEGIN:DAYLIGHT
TZOFFSETFROM:-0500
TZOFFSETTO:-0400
TZNAME:EDT
DTSTART:20220313T070000
END:DAYLIGHT
BEGIN:STANDARD
TZOFFSETFROM:-0400
TZOFFSETTO:-0500
TZNAME:EST
DTSTART:20221106T060000
END:STANDARD
BEGIN:DAYLIGHT
TZOFFSETFROM:-0500
TZOFFSETTO:-0400
TZNAME:EDT
DTSTART:20230312T070000
END:DAYLIGHT
BEGIN:STANDARD
TZOFFSETFROM:-0400
TZOFFSETTO:-0500
TZNAME:EST
DTSTART:20231105T060000
END:STANDARD
BEGIN:DAYLIGHT
TZOFFSETFROM:-0500
TZOFFSETTO:-0400
TZNAME:EDT
DTSTART:20240310T070000
END:DAYLIGHT
BEGIN:STANDARD
TZOFFSETFROM:-0400
TZOFFSETTO:-0500
TZNAME:EST
DTSTART:20241103T060000
END:STANDARD
END:VTIMEZONE
BEGIN:VEVENT
DTSTART;TZID=America/Toronto:20230517T100000
DTEND;TZID=America/Toronto:20230517T160000
DTSTAMP:20260422T062248
CREATED:20230419T175016Z
LAST-MODIFIED:20230512T144351Z
UID:5131-1684317600-1684339200@lancre.ca
SUMMARY:Événement - « Salon de l'emploi express » du Quartier de l'emploi et « Visite en autobus » avec L'ANCRE
DESCRIPTION:PRÉSENTATION DE CET ÉVÉNEMENT ORGANISÉ PAR LE QUARTIER DE L’EMPLOI\n\n\nVenez rencontrer les employeurs d’ici lors du salon de l’emploi express 2023.\n\nNous recevrons dans nos bureaux 25 employeurs\, une formule gagnante pour vous faire découvrir une belle panoplie de postes disponibles et l’occasion d’échanger avec les recruteurs. \nEnsemble\, ces employeurs vous parleront des opportunités d’emplois qu’ils ont à offrir. Dès l’arrivée\, les visiteurs pourront se rendre au « Coin de l’expert »\, endroit spécialement aménagé où ils auront accès à un coaching d’emploi rapide\, à une courte vérification de leur CV\, à des conseils professionnels pour établir un premier contact avantageux avec le recruteur\, etc. Ce service a été mis en place pour favoriser le recrutement et donner tous les outils nécessaires à la personne en recherche d’emploi pour une visite réussie du salon. \n\nIl y aura aussi des espaces spécifiquement aménagés dans le but de permettre des entrevues express. Il ne serait pas surprenant que des embauches puissent s’effectuer en temps réel. \nDe plus\, des conseillères et des conseillers seront disponibles pour rencontrer\, de façon individuelle\, des chercheuses et des chercheurs d’emploi intéressés par nos services et ainsi faire une rencontre d’évaluation des besoins. \n\nAssurez-vous d’avoir un CV à jour avant l’événement! \n  \nCliquez ici pour visionner la capsule vidéo de présentation \n  \n\nDÉTAILS TECHNIQUES\nÉVÉNEMENT GRATUIT\n\n\n\n\nAdresse du bureau de Saint-Jean-sur-Richelieu :\n49\, Saint-Jacques\, Saint-Jean-sur-Richelieu J3B 2J8 | 450 347-6101\n\nDes questions concernant le salon de l’emploi express?  Écrivez-nous à info@lancre.ca\n  \n  \n____________ \n\n\n\n\n\nVOUS ÊTES DE MONTRÉAL? \nVOUS AIMERIEZ RÉSERVER VOTRE JOURNÉE ET VISITER LA VILLE EN AUTOBUS AVEC L’ANCRE?\nDécouvrez tous les détails de cette journée et réservez votre place (Salon de l’emploi Express + repas + visite en autobus) \nDes questions concernant la visite en autobus?  Écrivez-nous à hamzanadif@lancre.ca \n\n\n\n\n\n\n\n\n\n  \n 
URL:https://lancre.ca/evenement/evenement-salon-de-lemploi-express-2023/
LOCATION:49\, rue Saint-Jacques. Saint-Jean-sur-Richelieu\, Québec\, 49 rue Saint-Jacques\, Saint-Jean-sur-Richelieu\, Quebec\, J3B 2J8\, Canada
CATEGORIES:Événements liés à l’emploi
ATTACH;FMTTYPE=image/png:https://lancre.ca/wp-content/uploads/2023/04/Logo_Salon-emploi-express.png
END:VEVENT
END:VCALENDAR