BEGIN:VCALENDAR
VERSION:2.0
PRODID:-//L&#039;ANCRE - ECPv6.15.11//NONSGML v1.0//EN
CALSCALE:GREGORIAN
METHOD:PUBLISH
X-ORIGINAL-URL:https://lancre.ca
X-WR-CALDESC:Évènements pour L&#039;ANCRE
REFRESH-INTERVAL;VALUE=DURATION:PT1H
X-Robots-Tag:noindex
X-PUBLISHED-TTL:PT1H
BEGIN:VTIMEZONE
TZID:America/Toronto
BEGIN:DAYLIGHT
TZOFFSETFROM:-0500
TZOFFSETTO:-0400
TZNAME:EDT
DTSTART:20250309T070000
END:DAYLIGHT
BEGIN:STANDARD
TZOFFSETFROM:-0400
TZOFFSETTO:-0500
TZNAME:EST
DTSTART:20251102T060000
END:STANDARD
BEGIN:DAYLIGHT
TZOFFSETFROM:-0500
TZOFFSETTO:-0400
TZNAME:EDT
DTSTART:20260308T070000
END:DAYLIGHT
BEGIN:STANDARD
TZOFFSETFROM:-0400
TZOFFSETTO:-0500
TZNAME:EST
DTSTART:20261101T060000
END:STANDARD
BEGIN:DAYLIGHT
TZOFFSETFROM:-0500
TZOFFSETTO:-0400
TZNAME:EDT
DTSTART:20270314T070000
END:DAYLIGHT
BEGIN:STANDARD
TZOFFSETFROM:-0400
TZOFFSETTO:-0500
TZNAME:EST
DTSTART:20271107T060000
END:STANDARD
END:VTIMEZONE
BEGIN:VEVENT
DTSTART;TZID=America/Toronto:20260317T100000
DTEND;TZID=America/Toronto:20260317T110000
DTSTAMP:20260419T091602
CREATED:20260226T173135Z
LAST-MODIFIED:20260226T173333Z
UID:12793-1773741600-1773745200@lancre.ca
SUMMARY:Clic Emploi avec le CSS des Hautes-Rivières
DESCRIPTION:Clic Emploi est un événement virtuel qui vous permet d’accéder rapidement à un grand nombre d’offres d’emploi proposées par une seule entreprise ou organisation.\nNous recevrons le CSS des Hautes-Rivières. \nNotre objectif?\nVous mettre en relation avec des employeurs qui recrutent activement et vous offrir une opportunité unique de mieux comprendre les postes disponibles avant d’envoyer votre candidature. \nQuand : 17 mars\nHeure : 10 h\nLieu : TEAMS \nInscription : https://coffre.ca/clic-emploi/  \n 
URL:https://lancre.ca/evenement/clic-emploi-avec-le-css-des-hautes-rivieres/
CATEGORIES:Événements liés à l’emploi
ATTACH;FMTTYPE=image/png:https://lancre.ca/wp-content/uploads/2025/03/Bandeau-site-web-.png
END:VEVENT
END:VCALENDAR