BEGIN:VCALENDAR
VERSION:2.0
PRODID:-//L&#039;ANCRE - ECPv6.15.11//NONSGML v1.0//EN
CALSCALE:GREGORIAN
METHOD:PUBLISH
X-ORIGINAL-URL:https://lancre.ca
X-WR-CALDESC:Évènements pour L&#039;ANCRE
REFRESH-INTERVAL;VALUE=DURATION:PT1H
X-Robots-Tag:noindex
X-PUBLISHED-TTL:PT1H
BEGIN:VTIMEZONE
TZID:America/Toronto
BEGIN:DAYLIGHT
TZOFFSETFROM:-0500
TZOFFSETTO:-0400
TZNAME:EDT
DTSTART:20220313T070000
END:DAYLIGHT
BEGIN:STANDARD
TZOFFSETFROM:-0400
TZOFFSETTO:-0500
TZNAME:EST
DTSTART:20221106T060000
END:STANDARD
BEGIN:DAYLIGHT
TZOFFSETFROM:-0500
TZOFFSETTO:-0400
TZNAME:EDT
DTSTART:20230312T070000
END:DAYLIGHT
BEGIN:STANDARD
TZOFFSETFROM:-0400
TZOFFSETTO:-0500
TZNAME:EST
DTSTART:20231105T060000
END:STANDARD
BEGIN:DAYLIGHT
TZOFFSETFROM:-0500
TZOFFSETTO:-0400
TZNAME:EDT
DTSTART:20240310T070000
END:DAYLIGHT
BEGIN:STANDARD
TZOFFSETFROM:-0400
TZOFFSETTO:-0500
TZNAME:EST
DTSTART:20241103T060000
END:STANDARD
BEGIN:DAYLIGHT
TZOFFSETFROM:-0500
TZOFFSETTO:-0400
TZNAME:EDT
DTSTART:20250309T070000
END:DAYLIGHT
BEGIN:STANDARD
TZOFFSETFROM:-0400
TZOFFSETTO:-0500
TZNAME:EST
DTSTART:20251102T060000
END:STANDARD
END:VTIMEZONE
BEGIN:VEVENT
DTSTART;TZID=America/Toronto:20231216T170000
DTEND;TZID=America/Toronto:20231216T200000
DTSTAMP:20260421T130548
CREATED:20231201T151955Z
LAST-MODIFIED:20231201T152348Z
UID:5889-1702746000-1702756800@lancre.ca
SUMMARY:Ensemble pour la fin de l'année - Soirée festive pour les TET
DESCRIPTION:L’ANCRE invite les Travailleurs Étrangers Temporaires\, avec permis de travail fermé\, qui sont seuls pour la période des fêtes. La fin de l’année est toujours difficile lorsque nous sommes loin de nos proches alors venez célébrer avec nous!\nUne belle soirée festive avec buffet\, de la musique pour danser et des tirages cadeaux! \n\n🅓🅐🅣🅔 : 16 décembre\n🅗🅞🅡🅐🅘🅡🅔 : de 17 h à 20 h\n🅛🅘🅔🅤 : Pavillon Gérard-Morin\n41 Rue Arthur-Riendeau\, Saint-Jean-sur-Richelieu\, Québec J2W 2A5\nGRATUIT\n Inscription obligatoire avant le 10 décembre\, dépêchez-vous\, les places sont limitées : \n\n AVIS À TOUS\, service de transport gratuit offert avec l’autobus de L’ANCRE!\nDépart : À 16 h 30\, rendez-vous au Quartier de l’emploi au 49\, rue Saint-Jacques.\nRetour : À 20 h\, vous pourrez repartir vers 3 points stratégiques de Saint-Jean-sur-Richelieu afin que vous puissiez mieux vous déplacer :\n IGA Iberville\, 420 2e Avenue\, Saint-Jean-sur-Richelieu\, QC J2X 2B8\n Terminus\, 700 Rue Boucher\, Saint-Jean-sur-Richelieu\, QC J3B 7Y7\n Quartier de l’emploi\, 49 Rue Saint-Jacques\, Saint-Jean-sur-Richelieu\, QC J3B 2J8\n\nPour plus de détails\, veuillez contacter Karla Duenas : karladuenas@lancre.ca ou 438 390-2132.\n————————————————————————-\n¡Juntos para el fin de año!\n\nL’Ancre quiere invitar a los trabajadores extranjeros temporales\, con permiso cerrado\, que estarán solos en este periodo de fiestas\, a celebrar con nosotros el fin del año\, ya que sabemos que es difícil estar lejos de los familiares y personas queridas\, ¡es momento de reunirnos!\n\nSera una noche festiva con comida\, música para bailar\, cantar y rifa de regalos! \n🅕🅔🅒🅗🅐 : sábado 16 de diciembre\n🅗🅞🅡🅐 : de 5 a 8 PM\n🅛🅤🅖🅐🅡 : Pavillon Gérard-Morin\nubicado en 41 Rue Arthur-Riendeau\, Saint-Jean-sur-Richelieu\, Québec J2W 2A5\n\nEVENTO GRATUITO\, con inscripción OBLIGATORIA\, antes del 10 de diciembre en esta liga:\n\n\n ADEMAS tendremos un servicio de transporte gratuito exclusivo para ustedes saliendo de L’Ancre:\n* 𝗦𝗮𝗹𝗶𝗱𝗮: sábado 16 de diciembre a las 4 :30 PM\, de nuestra oficina ubicada en 49\, rue Saint-Jacques\, Saint-Jean-sur-Richelieu.\n* 𝗥𝗲𝗴𝗿𝗲𝘀𝗼: sábado 16 de diciembre a las 8:00 PM\, del lugar del evento: Pavillon Gérard-Morin\, ubicado en 41 Rue Arthur-Riendeau\, Saint-Jean-sur-Richelieu.\n\nEl transporte hará solo 3 paradas estratégicas ya que no se trata de un autobús público\, sino privado.\n IGA Iberville\, 420 2e Avenue\, Saint-Jean-sur-Richelieu\, QC J2X 2B8\n Terminus\, 700 Rue Boucher\, Saint-Jean-sur-Richelieu\, QC J3B 7Y7\n Quartier de l’emploi\, 49 Rue Saint-Jacques\, Saint-Jean-sur-Richelieu\, QC J3B 2J8\nTambién pueden llevar su auto o llegar por sus propios medios .\n\nPara más detalles o si tienen alguna duda favor de contactar a:\nkarladuenas@lancre.ca\nWhatsApp: 438 390-2132.\n\nVerifiquen su agenda y horarios de trabajo para que NO se registren si no les es posible asistir.\nCupo limitado.\n¡Los esperamos!
URL:https://lancre.ca/evenement/ensemble-pour-la-fin-de-lannee-soiree-festive-pour-les-tet/
LOCATION:Pavillon Gérard Morin\, 41\, rue Arthur-Riendeau\, Saint-Jean-sur-Richelieu\, QC\, Canada
CATEGORIES:Activité pour les Travailleurs Étrangers Temporaires
ATTACH;FMTTYPE=image/png:https://lancre.ca/wp-content/uploads/2023/12/GABARIT-TET-15.png
END:VEVENT
BEGIN:VEVENT
DTSTART;TZID=America/Toronto:20231222T120000
DTEND;TZID=America/Toronto:20240107T170000
DTSTAMP:20260421T130548
CREATED:20231114T202450Z
LAST-MODIFIED:20231114T202450Z
UID:5733-1703246400-1704646800@lancre.ca
SUMMARY:L'ANCRE - Bureau fermé pour les vacances du temps des fêtes
DESCRIPTION:Prenez note que notre bureau est fermé du 22 décembre 2023 (midi) jusqu’au 7 janvier 2024 inclusivement. \nNous serons de retour le lundi 8 janvier au matin. \nJoyeux temps des fêtes!
URL:https://lancre.ca/evenement/lancre-bureau-ferme-pour-les-vacances-du-temps-des-fetes/
CATEGORIES:Activité pour les Travailleurs Étrangers Temporaires,Activités interculturelles,Ateliers éducatifs,Événements liés à l’emploi,Événements spéciaux,Session Objectif Intégration
ATTACH;FMTTYPE=image/svg+xml:https://lancre.ca/wp-content/uploads/2020/11/lancre.svg
END:VEVENT
END:VCALENDAR