BEGIN:VCALENDAR
VERSION:2.0
PRODID:-//L&#039;ANCRE - ECPv6.15.11//NONSGML v1.0//EN
CALSCALE:GREGORIAN
METHOD:PUBLISH
X-WR-CALNAME:L&#039;ANCRE
X-ORIGINAL-URL:https://lancre.ca
X-WR-CALDESC:Évènements pour L&#039;ANCRE
REFRESH-INTERVAL;VALUE=DURATION:PT1H
X-Robots-Tag:noindex
X-PUBLISHED-TTL:PT1H
BEGIN:VTIMEZONE
TZID:America/Toronto
BEGIN:DAYLIGHT
TZOFFSETFROM:-0500
TZOFFSETTO:-0400
TZNAME:EDT
DTSTART:20220313T070000
END:DAYLIGHT
BEGIN:STANDARD
TZOFFSETFROM:-0400
TZOFFSETTO:-0500
TZNAME:EST
DTSTART:20221106T060000
END:STANDARD
BEGIN:DAYLIGHT
TZOFFSETFROM:-0500
TZOFFSETTO:-0400
TZNAME:EDT
DTSTART:20230312T070000
END:DAYLIGHT
BEGIN:STANDARD
TZOFFSETFROM:-0400
TZOFFSETTO:-0500
TZNAME:EST
DTSTART:20231105T060000
END:STANDARD
BEGIN:DAYLIGHT
TZOFFSETFROM:-0500
TZOFFSETTO:-0400
TZNAME:EDT
DTSTART:20240310T070000
END:DAYLIGHT
BEGIN:STANDARD
TZOFFSETFROM:-0400
TZOFFSETTO:-0500
TZNAME:EST
DTSTART:20241103T060000
END:STANDARD
END:VTIMEZONE
BEGIN:VEVENT
DTSTART;TZID=America/Toronto:20230811T123000
DTEND;TZID=America/Toronto:20230811T190000
DTSTAMP:20260421T195618
CREATED:20230720T191345Z
LAST-MODIFIED:20230809T134612Z
UID:5324-1691757000-1691780400@lancre.ca
SUMMARY:Pique-nique « Voyons ensemble les montgolfières! » pour les Travailleurs Étrangers Temporaires
DESCRIPTION:L’ANCRE invite les Travailleurs Étrangers Temporaires à profiter d’un pique-nique pour voir ensemble les montgolfières dans le ciel. \nUn événement GRATUIT pour les Travailleurs Étrangers Temporaires (TET)\nInscription obligatoire : \nQuand : 11 août 2023\nHeure : 12 h 30 – 19 h\nOù : Parc Pierre-Trahan\, 486\, rue Vaudreuil\, Saint-Jean-sur-Richelieu\, QC\, J3B 3A7\n\n\n———————————————\n\nL’ANCRE y el programa de apoyo a Trabajadores Temporales Extranjeros los invitan a disfrutar juntos de un picnic para ver los globos aerostáticos en el cielo. \nUn evento GRATUITO para Trabajadores Extranjeros Temporales (TET)\nRegistro obligatorio: \nCuándo: 11 de agosto de 2023\nHora: 12:30 pm – 7 pm\nDónde: Parque Pierre-Trahan\, 486 Vaudreuil\, Saint-Jean-sur-Richelieu\, QC\, J3B 3A7
URL:https://lancre.ca/evenement/pique-nique-voyons-ensemble-les-montgolfieres-pour-les-travailleurs-etrangers-temporaires/
LOCATION:Parc Pierre-Trahan\, 486 rue Vaudreuil\, Saint-Jean-sur-Richelieu\, QC\, J3B 3A7\, Canada
CATEGORIES:Activité pour les Travailleurs Étrangers Temporaires
ATTACH;FMTTYPE=image/png:https://lancre.ca/wp-content/uploads/2023/07/GABARIT-TET-4.png
END:VEVENT
BEGIN:VEVENT
DTSTART;TZID=America/Toronto:20230831T160000
DTEND;TZID=America/Toronto:20230831T180000
DTSTAMP:20260421T195618
CREATED:20230822T190733Z
LAST-MODIFIED:20230822T190733Z
UID:5365-1693497600-1693504800@lancre.ca
SUMMARY:« Gagner un vélo» pour les Travailleurs Étrangers Temporaires
DESCRIPTION:L’ANCRE invite les Travailleurs Étrangers Temporaires à profiter d’une activité pour gagner un des 4 vélos gracieusement offert \nUn événement GRATUIT pour les Travailleurs Étrangers Temporaires (TET)\n\nÀ la fin de l’activité\, des questions seront posées sur le guide des travailleurs étrangers temporaires (remis à l’arrivée) et toutes les bonnes réponses seront tirées au sort afin que 4 travailleurs puissent gagner un vélo. \n\nInscription obligatoire : \nQuand : 31 août 2023\nHeure : 16 h – 18 h\nOù : El Rancho Latino\, 2054\, Rte 112\, Saint-Césaire\n\n———————————————\n\nL’ANCRE invita a los Trabajadores Temporales Extranjeros a aprovechar una actividad para ganar una de las 4 bicicletas gratis .\nUn evento GRATUITO para Trabajadores Extranjeros Temporales (TET) \n\nAl finalizar la plática\, se realizarán unas preguntas sobre la guía de Trabajadores Temporales Extranjeros (entregada a su llegada) y se sortearán todas las respuestas correctas para que 4 Trabajadores puedan ganar una bicicleta.\n\nRegistro obligatorio: \nCuándo: 31 de agosto de 2023\nHora: 4 pm – 6 pm\nDónde: El Rancho Latino\, 2054\, Rte 112\, Saint-Césaire
URL:https://lancre.ca/evenement/gagner-un-velo-pour-les-travailleurs-etrangers-temporaires/
LOCATION:El Rancho Latino\, 2054\, route 112\, Saint-Cézaire\, QC\, Canada
CATEGORIES:Activité pour les Travailleurs Étrangers Temporaires
END:VEVENT
END:VCALENDAR